BEGIN:VCALENDAR
VERSION:2.0
PRODID:-//The County Cork Wine Pub - ECPv6.15.20//NONSGML v1.0//EN
CALSCALE:GREGORIAN
METHOD:PUBLISH
X-WR-CALNAME:The County Cork Wine Pub
X-ORIGINAL-URL:https://www.thecorkpub.com
X-WR-CALDESC:Events for The County Cork Wine Pub
REFRESH-INTERVAL;VALUE=DURATION:PT1H
X-Robots-Tag:noindex
X-PUBLISHED-TTL:PT1H
BEGIN:VTIMEZONE
TZID:America/New_York
BEGIN:DAYLIGHT
TZOFFSETFROM:-0500
TZOFFSETTO:-0400
TZNAME:EDT
DTSTART:20170312T070000
END:DAYLIGHT
BEGIN:STANDARD
TZOFFSETFROM:-0400
TZOFFSETTO:-0500
TZNAME:EST
DTSTART:20171105T060000
END:STANDARD
BEGIN:DAYLIGHT
TZOFFSETFROM:-0500
TZOFFSETTO:-0400
TZNAME:EDT
DTSTART:20180311T070000
END:DAYLIGHT
BEGIN:STANDARD
TZOFFSETFROM:-0400
TZOFFSETTO:-0500
TZNAME:EST
DTSTART:20181104T060000
END:STANDARD
BEGIN:DAYLIGHT
TZOFFSETFROM:-0500
TZOFFSETTO:-0400
TZNAME:EDT
DTSTART:20190310T070000
END:DAYLIGHT
BEGIN:STANDARD
TZOFFSETFROM:-0400
TZOFFSETTO:-0500
TZNAME:EST
DTSTART:20191103T060000
END:STANDARD
END:VTIMEZONE
BEGIN:VEVENT
DTSTART;TZID=America/New_York:20180803T203000
DTEND;TZID=America/New_York:20180803T230000
DTSTAMP:20260420T011544
CREATED:20221122T120656Z
LAST-MODIFIED:20221122T120656Z
UID:2170-1533328200-1533337200@www.thecorkpub.com
SUMMARY:Dream Ticket Live!
DESCRIPTION:Start your new month with more of our Live! Music series!  Dream Ticket returns tonight with a blend of classic rock and newer songs.  So\, you can bring your friends\, family\, coworkers\, and more to have a great time!
URL:https://www.thecorkpub.com/event/dream-ticket-live/
CATEGORIES:Music Calender
ATTACH;FMTTYPE=image/jpeg:https://www.thecorkpub.com/wp-content/uploads/2018/07/cork-dream-ticket.jpg
END:VEVENT
BEGIN:VEVENT
DTSTART;TZID=America/New_York:20180727T203000
DTEND;TZID=America/New_York:20180727T213000
DTSTAMP:20260420T011544
CREATED:20221122T115331Z
LAST-MODIFIED:20221124T110236Z
UID:2165-1532723400-1532727000@www.thecorkpub.com
SUMMARY:Vox Live!
DESCRIPTION:Time flies when you’re having fun…which must be how it’s already the end of July!  To keep the good times going\, Vox will be playing all of your classic rock favorites\, and then some.  So\, join us tonight for another performance in our Live! Music series.
URL:https://www.thecorkpub.com/event/vox-live-3/
CATEGORIES:Music Calender
ATTACH;FMTTYPE=image/jpeg:https://www.thecorkpub.com/wp-content/uploads/2018/06/the-cork-july-27th.jpg
END:VEVENT
BEGIN:VEVENT
DTSTART;VALUE=DATE:20180724
DTEND;VALUE=DATE:20180806
DTSTAMP:20260420T011544
CREATED:20221122T124529Z
LAST-MODIFIED:20221124T110214Z
UID:2181-1532390400-1533513599@www.thecorkpub.com
SUMMARY:Howard County Restaurant Week at The Cork
DESCRIPTION:4 courses at one great price?  What’s not to love?  Come see what special menu we’ve created for you.  But hurry in!  This only lasts July 24th through August 5th.
URL:https://www.thecorkpub.com/event/howard-county-restaurant-week-at-the-cork/
CATEGORIES:Event Calendar
ATTACH;FMTTYPE=image/jpeg:https://www.thecorkpub.com/wp-content/uploads/2018/07/ho-co-restaurant-week.jpg
END:VEVENT
BEGIN:VEVENT
DTSTART;TZID=America/New_York:20180720T203000
DTEND;TZID=America/New_York:20180720T213000
DTSTAMP:20260420T011544
CREATED:20221122T114526Z
LAST-MODIFIED:20221124T110208Z
UID:2162-1532118600-1532122200@www.thecorkpub.com
SUMMARY:Greg Kneller Live!
DESCRIPTION:The Cork’s own Greg Kneller is returning with his guitar in tow!  Celebrate another summer weekend with the continuation of our Live! Music series and the great food/drink specials you’ve come to expect from us.
URL:https://www.thecorkpub.com/event/greg-kneller-live/
CATEGORIES:Music Calender
ATTACH;FMTTYPE=image/jpeg:https://www.thecorkpub.com/wp-content/uploads/2018/06/the-cork-july-20th.jpg
END:VEVENT
BEGIN:VEVENT
DTSTART;TZID=America/New_York:20180715T100000
DTEND;TZID=America/New_York:20180715T150000
DTSTAMP:20260420T011544
CREATED:20221122T120411Z
LAST-MODIFIED:20221122T120411Z
UID:2168-1531648800-1531666800@www.thecorkpub.com
SUMMARY:Jazz Brunch "Meridian Collective"
DESCRIPTION:They’re back!  If you missed our first Jazz Brunch of the summer\, consider this your second chance.  Featuring the sounds of Meridian Collective\, you can enjoy smooth music while you wake up with our delicious menu.
URL:https://www.thecorkpub.com/event/jazz-brunch-meridian-collective-2/
CATEGORIES:Event Calendar
ATTACH;FMTTYPE=image/jpeg:https://www.thecorkpub.com/wp-content/uploads/2018/06/the-cork-july-jazz-brunch.jpg
END:VEVENT
BEGIN:VEVENT
DTSTART;TZID=America/New_York:20180713T203000
DTEND;TZID=America/New_York:20180713T213000
DTSTAMP:20260420T011544
CREATED:20221122T114208Z
LAST-MODIFIED:20221124T110014Z
UID:2160-1531513800-1531517400@www.thecorkpub.com
SUMMARY:Double Feature Live!
DESCRIPTION:Come out on Friday the 13th for a good cause–Live Music!  Crowd favorite Double Feature returns tonight for a fun-filled evening\, so grab your friends and arrive early to claim your seat.
URL:https://www.thecorkpub.com/event/double-feature-live-2/
CATEGORIES:Music Calender
ATTACH;FMTTYPE=image/jpeg:https://www.thecorkpub.com/wp-content/uploads/2018/06/the-cork-double-feature.jpg
END:VEVENT
BEGIN:VEVENT
DTSTART;TZID=America/New_York:20180710T180000
DTEND;TZID=America/New_York:20180710T190000
DTSTAMP:20260420T011544
CREATED:20221122T112515Z
LAST-MODIFIED:20221124T110022Z
UID:2153-1531245600-1531249200@www.thecorkpub.com
SUMMARY:July Wine Tasting
DESCRIPTION:We’re moving our monthly wine tasting back a week\, so everyone can come!  In July\, we’re featuring selections from the Wagner Family of Wine.  Plus\, a specially-prepared menu to truly complement the flavors.  Check it out: \n \n 
URL:https://www.thecorkpub.com/event/july-wine-tasting/
CATEGORIES:Event Calendar
ATTACH;FMTTYPE=image/jpeg:https://www.thecorkpub.com/wp-content/uploads/2018/06/cork-july-wine-tasting.jpg
END:VEVENT
BEGIN:VEVENT
DTSTART;TZID=America/New_York:20180706T203000
DTEND;TZID=America/New_York:20180706T213000
DTSTAMP:20260420T011544
CREATED:20221122T113722Z
LAST-MODIFIED:20221124T105956Z
UID:2159-1530909000-1530912600@www.thecorkpub.com
SUMMARY:Johnny Cole Live!
DESCRIPTION:If you’re still around the ‘Burg this weekend\, this is the place to be!  Hear the music of Johnny Cole all night long and try something off our updated Late Night Menu.
URL:https://www.thecorkpub.com/event/johnny-cole-live/
CATEGORIES:Music Calender
ATTACH;FMTTYPE=image/jpeg:https://www.thecorkpub.com/wp-content/uploads/2018/06/the-cork-july-6th.jpg
END:VEVENT
BEGIN:VEVENT
DTSTART;TZID=America/New_York:20180704T100000
DTEND;TZID=America/New_York:20180704T110000
DTSTAMP:20260420T011544
CREATED:20221122T113306Z
LAST-MODIFIED:20221124T110003Z
UID:2157-1530698400-1530702000@www.thecorkpub.com
SUMMARY:4th of July
DESCRIPTION:Happy birthday\, America!  To commemorate this special occasion\, The Cork will be closed.  We hope you and your family have a wonderful holiday!  We’ll resume normal business hours tomorrow.
URL:https://www.thecorkpub.com/event/4th-of-july/
CATEGORIES:Event Calendar
ATTACH;FMTTYPE=image/jpeg:https://www.thecorkpub.com/wp-content/uploads/2018/06/cork-4th-of-july.jpg
END:VEVENT
BEGIN:VEVENT
DTSTART;TZID=America/New_York:20180629T203000
DTEND;TZID=America/New_York:20180629T230000
DTSTAMP:20260420T011544
CREATED:20221122T111137Z
LAST-MODIFIED:20221122T111137Z
UID:2146-1530304200-1530313200@www.thecorkpub.com
SUMMARY:Vox Live!
DESCRIPTION:Well\, it’s hard to believe\, but another month has come and gone.  Fortunately\, our Live!  Music continues tonight with Vox.  Listen to them play your favorites tonight while you kick off the weekend.
URL:https://www.thecorkpub.com/event/vox-live-2/
CATEGORIES:Music Calender
ATTACH;FMTTYPE=image/jpeg:https://www.thecorkpub.com/wp-content/uploads/2018/05/the-cork-june-29.jpg
END:VEVENT
BEGIN:VEVENT
DTSTART;TZID=America/New_York:20180624T100000
DTEND;TZID=America/New_York:20180624T150000
DTSTAMP:20260420T011545
CREATED:20221122T120017Z
LAST-MODIFIED:20221122T120017Z
UID:2166-1529834400-1529852400@www.thecorkpub.com
SUMMARY:Jazz Brunch "Meridian Collective"
DESCRIPTION:Today\, we’re doing brunch a little differently.  Come out for Jazz Brunch featuring Meridian Collective!  You can enjoy the same great food\, with a slightly musical spin\, from 10:00 AM to 3:00 PM.
URL:https://www.thecorkpub.com/event/jazz-brunch-meridian-collective/
CATEGORIES:Event Calendar
ATTACH;FMTTYPE=image/jpeg:https://www.thecorkpub.com/wp-content/uploads/2018/06/the-cork-jazz-brunch-2.jpg
END:VEVENT
BEGIN:VEVENT
DTSTART;TZID=America/New_York:20180622T203000
DTEND;TZID=America/New_York:20180622T213000
DTSTAMP:20260420T011545
CREATED:20221122T101558Z
LAST-MODIFIED:20221124T105750Z
UID:2127-1529699400-1529703000@www.thecorkpub.com
SUMMARY:Easy Six Live!
DESCRIPTION:Easy Six returns tonight to help us celebrate the summer!  Our Live! Music series features this Towson-based duo again and again because they offer a performance you won’t want to miss!  It all starts tonight at 8:30 PM.
URL:https://www.thecorkpub.com/event/easy-six-live/
CATEGORIES:Music Calender
ATTACH;FMTTYPE=image/jpeg:https://www.thecorkpub.com/wp-content/uploads/2018/05/the-cork-june-22.jpg
END:VEVENT
BEGIN:VEVENT
DTSTART;TZID=America/New_York:20180617T160000
DTEND;TZID=America/New_York:20180617T170000
DTSTAMP:20260420T011545
CREATED:20221122T112041Z
LAST-MODIFIED:20221124T105711Z
UID:2150-1529251200-1529254800@www.thecorkpub.com
SUMMARY:Father's Day Dinner
DESCRIPTION:Or\, if you prefer\, join us for dinner instead!  It’s Dad’s day\, so treat him to a meal he won’t soon forget. Reserve your spot now!
URL:https://www.thecorkpub.com/event/fathers-day-dinner/
CATEGORIES:Event Calendar
ATTACH;FMTTYPE=image/jpeg:https://www.thecorkpub.com/wp-content/uploads/2018/06/cork-fathers-day-dinner.jpg
END:VEVENT
BEGIN:VEVENT
DTSTART;TZID=America/New_York:20180617T100000
DTEND;TZID=America/New_York:20180617T150000
DTSTAMP:20260420T011545
CREATED:20221122T111634Z
LAST-MODIFIED:20221122T111634Z
UID:2148-1529229600-1529247600@www.thecorkpub.com
SUMMARY:Father's Day Brunch
DESCRIPTION:Come celebrate Dad with our recently revamped brunch menu!  Bring in the whole family–everyone’s sure to find something they’ll love here.
URL:https://www.thecorkpub.com/event/fathers-day/
CATEGORIES:Event Calendar
ATTACH;FMTTYPE=image/jpeg:https://www.thecorkpub.com/wp-content/uploads/2018/06/the-cork-fathers-day.jpg
END:VEVENT
BEGIN:VEVENT
DTSTART;TZID=America/New_York:20180615T203000
DTEND;TZID=America/New_York:20180615T230000
DTSTAMP:20260420T011545
CREATED:20221122T100922Z
LAST-MODIFIED:20221122T101013Z
UID:2125-1529094600-1529103600@www.thecorkpub.com
SUMMARY:Jeannie Finneran Live!
DESCRIPTION:Come out tonight for the debut of Jeannie Finneran at The Cork Wine Pub!  Hear her spin on your classic rock favorites as you enjoy late-night food and drink specials.
URL:https://www.thecorkpub.com/event/jeannie-finneran-live/
CATEGORIES:Music Calender
ATTACH;FMTTYPE=image/jpeg:https://www.thecorkpub.com/wp-content/uploads/2018/05/the-cork-june-15.jpg
END:VEVENT
BEGIN:VEVENT
DTSTART;TZID=America/New_York:20180608T203000
DTEND;TZID=America/New_York:20180608T230000
DTSTAMP:20260420T011545
CREATED:20221122T100409Z
LAST-MODIFIED:20221122T100409Z
UID:2123-1528489800-1528498800@www.thecorkpub.com
SUMMARY:Double Feature Live!
DESCRIPTION:The famous duo returns to The Cork with this weekend’s continuation of our Live!  Music series!  Catch Double Feature as they play all of your favorites\, starting at 8:30 PM tonight.
URL:https://www.thecorkpub.com/event/double-feature-live/
CATEGORIES:Music Calender
ATTACH;FMTTYPE=image/jpeg:https://www.thecorkpub.com/wp-content/uploads/2018/05/the-cork-june-8.jpg
END:VEVENT
BEGIN:VEVENT
DTSTART;TZID=America/New_York:20180606T183000
DTEND;TZID=America/New_York:20180606T193000
DTSTAMP:20260420T011545
CREATED:20221122T110606Z
LAST-MODIFIED:20221124T105353Z
UID:2144-1528309800-1528313400@www.thecorkpub.com
SUMMARY:Wine Down Wednesday
DESCRIPTION:Join us for this SPECIAL EDITION Wine Down Wednesday event!! Start the night with a reservation at The County Cork Wine Pub at 6:30 PM* then head over to Meltdown DiY Art Studio to continue your creative night out on the town. This is a great event for a Date Night or Girls’ Night Out! Registered participants will enjoy a 20% discount at The County Cork Wine Pub and Meltdown DiY Art Studio**. As always\, you can BYOB to Meltdown DiY Art Studio. Get a bottle of wine and some dessert to go from The Cork and enjoy them while you’re getting creative at Meltdown! Details and Registration on our website. Registration Required.
URL:https://www.thecorkpub.com/event/wine-down-wednesday/
CATEGORIES:Event Calendar
ATTACH;FMTTYPE=image/jpeg:https://www.thecorkpub.com/wp-content/uploads/2018/02/Wine-Down-Wednesday.jpg
END:VEVENT
BEGIN:VEVENT
DTSTART;TZID=America/New_York:20180605T180000
DTEND;TZID=America/New_York:20180605T190000
DTSTAMP:20260420T011545
CREATED:20221122T105921Z
LAST-MODIFIED:20221124T105810Z
UID:2142-1528221600-1528225200@www.thecorkpub.com
SUMMARY:June Wine Tasting
DESCRIPTION:Featuring the wines of the Trinchero Family Estates\,\nenjoy a variety of samples along with our specially-crafted menu of pairings. \n \n 
URL:https://www.thecorkpub.com/event/june-wine-tasting/
CATEGORIES:Event Calendar
ATTACH;FMTTYPE=image/jpeg:https://www.thecorkpub.com/wp-content/uploads/2018/05/the-cork-june-5.jpg
END:VEVENT
BEGIN:VEVENT
DTSTART;TZID=America/New_York:20180601T203000
DTEND;TZID=America/New_York:20180601T230000
DTSTAMP:20260420T011545
CREATED:20221122T105505Z
LAST-MODIFIED:20221122T105505Z
UID:2140-1527885000-1527894000@www.thecorkpub.com
SUMMARY:Matt McMullin Live!
DESCRIPTION:Start your summer with our Live! Music series.  Tonight\, enjoy the sounds of Matt McMulliun as he serenades The Cork.  He plays at 8:30 PM.
URL:https://www.thecorkpub.com/event/matt-mcmullin-live/
CATEGORIES:Music Calender
ATTACH;FMTTYPE=image/jpeg:https://www.thecorkpub.com/wp-content/uploads/2018/05/the-cork-june-1.jpg
END:VEVENT
BEGIN:VEVENT
DTSTART;TZID=America/New_York:20180525T203000
DTEND;TZID=America/New_York:20180525T230000
DTSTAMP:20260420T011545
CREATED:20221122T105200Z
LAST-MODIFIED:20221122T105200Z
UID:2138-1527280200-1527289200@www.thecorkpub.com
SUMMARY:Vox Live!
DESCRIPTION:This weekend\, our Live! Music series continues for one night only!  We’re taking a break for Memorial Day\, so don’t miss Vox tonight\, starting at 8:30 PM.
URL:https://www.thecorkpub.com/event/vox-live/
CATEGORIES:Music Calender
ATTACH;FMTTYPE=image/jpeg:https://www.thecorkpub.com/wp-content/uploads/2018/05/the-cork-may-25.jpg
END:VEVENT
BEGIN:VEVENT
DTSTART;TZID=America/New_York:20180523T180000
DTEND;TZID=America/New_York:20180523T210000
DTSTAMP:20260420T011545
CREATED:20221122T104834Z
LAST-MODIFIED:20221122T104834Z
UID:2136-1527098400-1527109200@www.thecorkpub.com
SUMMARY:Le Painted Grape Night
DESCRIPTION:Wine and painting…can you think of a better combination?  If you’ve never attended one of our partnered events with Le Painted Grape\, you’re missing out.  We may have a few spots left\, so visit our events page to buy your ticket!
URL:https://www.thecorkpub.com/event/le-painted-grape-night/
CATEGORIES:Event Calendar
ATTACH;FMTTYPE=image/jpeg:https://www.thecorkpub.com/wp-content/uploads/2018/05/the-cork-may-23rd.jpg
END:VEVENT
BEGIN:VEVENT
DTSTART;TZID=America/New_York:20180519T203000
DTEND;TZID=America/New_York:20180519T213000
DTSTAMP:20260420T011545
CREATED:20221122T102936Z
LAST-MODIFIED:20221124T104929Z
UID:2129-1526761800-1526765400@www.thecorkpub.com
SUMMARY:Jon Perry Live!
DESCRIPTION:Well\, the big day’s finally here!  After touring around the country\, we have Jon Perry bringing the classic songs of Paul McCartney back to the ‘Burg.  You won’t want to miss this special performance\, beginning at 8:30 PM.
URL:https://www.thecorkpub.com/event/jon-perry-live/
CATEGORIES:Event Calendar
ATTACH;FMTTYPE=image/jpeg:https://www.thecorkpub.com/wp-content/uploads/2018/04/the-cork-may-19.jpg
END:VEVENT
BEGIN:VEVENT
DTSTART;TZID=America/New_York:20180518T203000
DTEND;TZID=America/New_York:20180518T230000
DTSTAMP:20260420T011545
CREATED:20221122T072941Z
LAST-MODIFIED:20221122T095232Z
UID:2107-1526675400-1526684400@www.thecorkpub.com
SUMMARY:Easy Six Live!
DESCRIPTION:Easy Six is a Towson based rock band\, that plays both original music and cover songs at various venues around Baltimore. \nCome out and hear them play Live! on Friday\, May 18th at 8:30 PM.
URL:https://www.thecorkpub.com/event/test-event-1/
CATEGORIES:Music Calender
ATTACH;FMTTYPE=image/png:https://www.thecorkpub.com/wp-content/uploads/2018/02/the-cork-may-18.png
END:VEVENT
BEGIN:VEVENT
DTSTART;TZID=America/New_York:20180513T160000
DTEND;TZID=America/New_York:20180513T210000
DTSTAMP:20260420T011545
CREATED:20221122T103517Z
LAST-MODIFIED:20221122T103517Z
UID:2131-1526227200-1526245200@www.thecorkpub.com
SUMMARY:Mother's Day Dinner
DESCRIPTION:
URL:https://www.thecorkpub.com/event/mothers-day-dinner/
CATEGORIES:Event Calendar
ATTACH;FMTTYPE=image/jpeg:https://www.thecorkpub.com/wp-content/uploads/2018/04/norwood-mothers-day.jpg
END:VEVENT
BEGIN:VEVENT
DTSTART;TZID=America/New_York:20180513T100000
DTEND;TZID=America/New_York:20180513T150000
DTSTAMP:20260420T011545
CREATED:20221122T075042Z
LAST-MODIFIED:20221122T091941Z
UID:2111-1526205600-1526223600@www.thecorkpub.com
SUMMARY:Mother's Day Brunch
DESCRIPTION:Show mom how much she means today!  It’s the one day of the year where we honor this important lady\, so why not take her out?  Bring her to our amazing brunch\, or reserve a spot for dinner\, and we’ll take care of the rest.
URL:https://www.thecorkpub.com/event/test-event-2/
CATEGORIES:Event Calendar
ATTACH;FMTTYPE=image/jpeg:https://www.thecorkpub.com/wp-content/uploads/2018/02/the-cork-may-13.jpg
END:VEVENT
BEGIN:VEVENT
DTSTART;TZID=America/New_York:20180511T203000
DTEND;TZID=America/New_York:20180511T230000
DTSTAMP:20260420T011545
CREATED:20221122T082004Z
LAST-MODIFIED:20221122T093214Z
UID:2115-1526070600-1526079600@www.thecorkpub.com
SUMMARY:Greg Kneller Live!
DESCRIPTION:You don’t know Greg Kneller until you’ve heard him play!  Fortunately\, you can catch him tonight at The Cork\, starting at 8:30 PM.
URL:https://www.thecorkpub.com/event/test-event4/
CATEGORIES:Music Calender
ATTACH;FMTTYPE=image/jpeg:https://www.thecorkpub.com/wp-content/uploads/2018/02/the-cork-may-11.jpg
END:VEVENT
BEGIN:VEVENT
DTSTART;TZID=America/New_York:20180510T170000
DTEND;TZID=America/New_York:20180510T190000
DTSTAMP:20260420T011545
CREATED:20221122T104110Z
LAST-MODIFIED:20221122T104110Z
UID:2134-1525971600-1525978800@www.thecorkpub.com
SUMMARY:May's Portuguese Wine Tasting
DESCRIPTION:
URL:https://www.thecorkpub.com/event/st-patricks-day-2/
CATEGORIES:Event Calendar
ATTACH;FMTTYPE=image/jpeg:https://www.thecorkpub.com/wp-content/uploads/2018/04/the-cork-may-1.jpg
END:VEVENT
BEGIN:VEVENT
DTSTART;TZID=America/New_York:20180508T103000
DTEND;TZID=America/New_York:20180508T110000
DTSTAMP:20260420T011545
CREATED:20221122T075754Z
LAST-MODIFIED:20221124T102440Z
UID:2113-1525775400-1525777200@www.thecorkpub.com
SUMMARY:New Spring Menu Debut
DESCRIPTION:For a taste of the season\, join us today for a brand new menu!  We’re also featuring half-priced wine bottles all day long\, so what’re you waiting for?
URL:https://www.thecorkpub.com/event/newmenu/
CATEGORIES:Event Calendar
ATTACH;FMTTYPE=image/jpeg:https://www.thecorkpub.com/wp-content/uploads/2018/02/the-cork-may-8.jpg
END:VEVENT
BEGIN:VEVENT
DTSTART;TZID=America/New_York:20180505T203000
DTEND;TZID=America/New_York:20180505T230000
DTSTAMP:20260420T011545
CREATED:20221122T083748Z
LAST-MODIFIED:20221122T093839Z
UID:2117-1525552200-1525561200@www.thecorkpub.com
SUMMARY:Drew Stevyns Live!
DESCRIPTION:Tonight\, Drew Stevyns is returning to The Cork!  You may recognize him from America’s Got Talent\, but now he’s bringing his unique sound to Eldersburg.  Arrive early to grab a seat and enjoy our late-night menu throughout the evening!
URL:https://www.thecorkpub.com/event/music-calender1/
CATEGORIES:Music Calender,Genre
ATTACH;FMTTYPE=image/jpeg:https://www.thecorkpub.com/wp-content/uploads/2018/02/the-cork-may-5.jpg
END:VEVENT
BEGIN:VEVENT
DTSTART;TZID=America/New_York:20180504T200000
DTEND;TZID=America/New_York:20180504T230000
DTSTAMP:20260420T011545
CREATED:20221122T084216Z
LAST-MODIFIED:20221122T094315Z
UID:2119-1525464000-1525474800@www.thecorkpub.com
SUMMARY:Dream Ticket Live!
DESCRIPTION:May the fourth be with you…as you join us for the continuation of our Live! Music series tonight.  Dream Ticket will help you kick off your weekend with their set list starting at 8:30 PM.
URL:https://www.thecorkpub.com/event/music-calender2/
CATEGORIES:Music Calender
ATTACH;FMTTYPE=image/jpeg:https://www.thecorkpub.com/wp-content/uploads/2018/02/the-cork-may-4.jpg
END:VEVENT
END:VCALENDAR