BEGIN:VCALENDAR
VERSION:2.0
PRODID:-//The County Cork Wine Pub - ECPv6.15.20//NONSGML v1.0//EN
CALSCALE:GREGORIAN
METHOD:PUBLISH
X-WR-CALNAME:The County Cork Wine Pub
X-ORIGINAL-URL:https://www.thecorkpub.com
X-WR-CALDESC:Events for The County Cork Wine Pub
REFRESH-INTERVAL;VALUE=DURATION:PT1H
X-Robots-Tag:noindex
X-PUBLISHED-TTL:PT1H
BEGIN:VTIMEZONE
TZID:America/New_York
BEGIN:DAYLIGHT
TZOFFSETFROM:-0500
TZOFFSETTO:-0400
TZNAME:EDT
DTSTART:20170312T070000
END:DAYLIGHT
BEGIN:STANDARD
TZOFFSETFROM:-0400
TZOFFSETTO:-0500
TZNAME:EST
DTSTART:20171105T060000
END:STANDARD
BEGIN:DAYLIGHT
TZOFFSETFROM:-0500
TZOFFSETTO:-0400
TZNAME:EDT
DTSTART:20180311T070000
END:DAYLIGHT
BEGIN:STANDARD
TZOFFSETFROM:-0400
TZOFFSETTO:-0500
TZNAME:EST
DTSTART:20181104T060000
END:STANDARD
BEGIN:DAYLIGHT
TZOFFSETFROM:-0500
TZOFFSETTO:-0400
TZNAME:EDT
DTSTART:20190310T070000
END:DAYLIGHT
BEGIN:STANDARD
TZOFFSETFROM:-0400
TZOFFSETTO:-0500
TZNAME:EST
DTSTART:20191103T060000
END:STANDARD
BEGIN:DAYLIGHT
TZOFFSETFROM:-0500
TZOFFSETTO:-0400
TZNAME:EDT
DTSTART:20200308T070000
END:DAYLIGHT
BEGIN:STANDARD
TZOFFSETFROM:-0400
TZOFFSETTO:-0500
TZNAME:EST
DTSTART:20201101T060000
END:STANDARD
END:VTIMEZONE
BEGIN:VEVENT
DTSTART;TZID=America/New_York:20190305T180000
DTEND;TZID=America/New_York:20190305T180000
DTSTAMP:20260420T035750
CREATED:20221123T094804Z
LAST-MODIFIED:20221123T094833Z
UID:2313-1551808800-1551808800@www.thecorkpub.com
SUMMARY:March Wine Tasting
DESCRIPTION:Join us for our March Wine Tasting!  Featuring Indelicato Family Wines and 5 handcrafted courses–all for only $35.  Reserve your spot today for winter’s last hoorah!
URL:https://www.thecorkpub.com/event/march-wine-tasting/
CATEGORIES:Event Calendar,Wine Tasting
ATTACH;FMTTYPE=image/jpeg:https://www.thecorkpub.com/wp-content/uploads/2019/01/march-wine-tasting.jpg
END:VEVENT
BEGIN:VEVENT
DTSTART;TZID=America/New_York:20190301T203000
DTEND;TZID=America/New_York:20190301T203000
DTSTAMP:20260420T035750
CREATED:20221123T105021Z
LAST-MODIFIED:20221123T105021Z
UID:2337-1551472200-1551472200@www.thecorkpub.com
SUMMARY:Dream Ticket Live!
DESCRIPTION:Enjoy the classics as they were meant to be performed.  By a rock ‘n’ roll duo like Dream Ticket!  Tonight\, they’ll be playing your favorites from 8:30 PM on.  Don’t miss it!
URL:https://www.thecorkpub.com/event/dream-ticket-live-3/
CATEGORIES:Music Calender
ATTACH;FMTTYPE=image/jpeg:https://www.thecorkpub.com/wp-content/uploads/2019/02/the-cork-march-1st-dream-ticket.jpg
END:VEVENT
BEGIN:VEVENT
DTSTART;TZID=America/New_York:20190223T203000
DTEND;TZID=America/New_York:20190223T203000
DTSTAMP:20260420T035750
CREATED:20221123T103202Z
LAST-MODIFIED:20221123T103202Z
UID:2332-1550953800-1550953800@www.thecorkpub.com
SUMMARY:Mark Jacob Live!
DESCRIPTION:Few musicians bring the type of variety Mark Jacob is known for.  Which is why we hope you’ll join us for his debut as part of The Cork’s Live! Music series.  It’s his first time here\, but it certainly won’t be his last–and it all starts at 8:30 PM.
URL:https://www.thecorkpub.com/event/mark-jacob-live/
CATEGORIES:Music Calender
ATTACH;FMTTYPE=image/jpeg:https://www.thecorkpub.com/wp-content/uploads/2019/02/the-cork-feb-23rd-mark-jacob.jpg
END:VEVENT
BEGIN:VEVENT
DTSTART;TZID=America/New_York:20190215T203000
DTEND;TZID=America/New_York:20190215T203000
DTSTAMP:20260420T035750
CREATED:20221123T101025Z
LAST-MODIFIED:20221123T101025Z
UID:2322-1550262600-1550262600@www.thecorkpub.com
SUMMARY:Ben Sherman Live!
DESCRIPTION:Come see the man behind the guitar!  Our Live! Music series continues with Ben Sherman.  He’s classically trained and ready to rock the house.  It all starts tonight at 8:30 PM.
URL:https://www.thecorkpub.com/event/ben-sherman-live-2/
CATEGORIES:Music Calender
ATTACH;FMTTYPE=image/jpeg:https://www.thecorkpub.com/wp-content/uploads/2019/01/the-cork-feb-15th-ben-sherman.jpg
END:VEVENT
BEGIN:VEVENT
DTSTART;VALUE=DATE:20190214
DTEND;VALUE=DATE:20190215
DTSTAMP:20260420T035750
CREATED:20221123T102910Z
LAST-MODIFIED:20221123T102910Z
UID:2327-1550102400-1550188799@www.thecorkpub.com
SUMMARY:Valentine's Day at The Cork
DESCRIPTION:Bring in your Valentine for memorable celebration!  Enjoy a meal designed for two (or one of your favorite items from our regular menu) and don’t forget to ask our knowledgeable servers for wine recommendations to complement your experience.  If you want to know the best part\, though\, this offer extends throughout the entire weekend!  So\, schedule your date anytime between 2/14 and 2/17.
URL:https://www.thecorkpub.com/event/valentines-day-at-the-cork/
CATEGORIES:Event Calendar
ATTACH;FMTTYPE=image/jpeg:https://www.thecorkpub.com/wp-content/uploads/2019/01/the-cork-valentines-day.jpg
END:VEVENT
BEGIN:VEVENT
DTSTART;TZID=America/New_York:20190203T203000
DTEND;TZID=America/New_York:20190203T203000
DTSTAMP:20260420T035750
CREATED:20221123T105958Z
LAST-MODIFIED:20221123T105958Z
UID:2331-1549225800-1549225800@www.thecorkpub.com
SUMMARY:The Brahman Noodles Live!
DESCRIPTION:You haven’t heard anything quite like The Brahman Noodles before! At least not at The Cork.  Tonight\, we welcome this Jug Funk collection of musicians to spice up your Saturday night.  Don’t miss their first ever appearance\, starting at 8:30 PM.
URL:https://www.thecorkpub.com/event/the-brahman-noodles-live/
CATEGORIES:Music Calender
ATTACH;FMTTYPE=image/jpeg:https://www.thecorkpub.com/wp-content/uploads/2019/02/the-cork-march-2nd-brahman-noodles.jpg
END:VEVENT
BEGIN:VEVENT
DTSTART;TZID=America/New_York:20190202T203000
DTEND;TZID=America/New_York:20190202T203000
DTSTAMP:20260420T035750
CREATED:20221123T100128Z
LAST-MODIFIED:20221123T100128Z
UID:2318-1549139400-1549139400@www.thecorkpub.com
SUMMARY:Drew Stevyns Live!
DESCRIPTION:Our Live! Music series just wouldn’t be the same without local celebrity\, Drew Stevyns!  His soulful voice and guitar melodies make each performance a night to remember.  So\, catch his next appearance at The Cork–tonight at 8:30 PM!
URL:https://www.thecorkpub.com/event/drew-stevyns-live-4/
CATEGORIES:Music Calender
ATTACH;FMTTYPE=image/jpeg:https://www.thecorkpub.com/wp-content/uploads/2019/01/the-cork-feb-2nd-drew-stevyns.jpg
END:VEVENT
BEGIN:VEVENT
DTSTART;TZID=America/New_York:20190201T203000
DTEND;TZID=America/New_York:20190201T203000
DTSTAMP:20260420T035750
CREATED:20221123T095225Z
LAST-MODIFIED:20221123T095225Z
UID:2314-1549053000-1549053000@www.thecorkpub.com
SUMMARY:Dream Ticket Live!
DESCRIPTION:Hear this acoustic duo ring in February!  You’ll love their rock renditions\, but you never know what songs will be in their setlist.  Dream Ticket starts playing at 8:30 PM\, but come early for food\, friends\, and more!
URL:https://www.thecorkpub.com/event/dream-ticket-live-2/
CATEGORIES:Music Calender
ATTACH;FMTTYPE=image/jpeg:https://www.thecorkpub.com/wp-content/uploads/2019/01/the-cork-feb-1st-dream-ticket.jpg
END:VEVENT
BEGIN:VEVENT
DTSTART;TZID=America/New_York:20190130T183000
DTEND;TZID=America/New_York:20190130T203000
DTSTAMP:20260420T035750
CREATED:20221123T102419Z
LAST-MODIFIED:20221123T102419Z
UID:2326-1548873000-1548880200@www.thecorkpub.com
SUMMARY:The Miracle of Music Book Signing & Discussion
DESCRIPTION:FREE Book discussion and concert with local author\, Jeannie Finnegan!  Her new book is called The Miracle of Music – Stories of Hope\, Understanding\, and Inspiration.  Here’s a little bit of background: \nAre you a caregiver for someone with a chronic or terminal illness or disorder? Are you looking for ways to connect with your loved one with Alzheimer’s\, dementia\, or a cognitive disorder?  Are you interested in learning about the powerful therapeutic effects of music for all of us?  Then join us at The County Cork as Jeannie Finnegan discusses her new book and the miraculous qualities of music for comfort\, connection\, and healing.  She will also be performing a “mini concert” as you enjoy our delicious wines and our chef’s creations.  Please invite friends or family members that you know will benefit from this inspiring discussion\, and share on your facebook page!  This event starts at 6:30 PM on Wednesday\, January 30th and ends at 8:30 PM.  See you at The Cork! \nJeannie Finnegan is an author\, speaker\, and Certified Dementia Practitioner working as a consultant primarily in Howard and Carroll counties\, helping long-term care\, memory care\, and assisted living communities develop and implement personalized care for residents\, including the use of music as a powerful therapeutic tool.  She also teaches caregiving seminars and trains staff working in long-term care and memory care. Jeannie resides in Woodstock\, Maryland and is one of our weekend performers at The County Cork.
URL:https://www.thecorkpub.com/event/the-miracle-of-music-book-signing-discussion-2/
CATEGORIES:Event Calendar
ATTACH;FMTTYPE=image/jpeg:https://www.thecorkpub.com/wp-content/uploads/2018/10/the-miracle-of-music-event.jpg
END:VEVENT
BEGIN:VEVENT
DTSTART;VALUE=DATE:20190122
DTEND;VALUE=DATE:20190205
DTSTAMP:20260420T035750
CREATED:20221123T093156Z
LAST-MODIFIED:20221123T093156Z
UID:2309-1548115200-1549324799@www.thecorkpub.com
SUMMARY:Howard County Restaurant Week
DESCRIPTION:Welcome to the 1st Howard County Restaurant Week of 2019!  With The Cork’s twist.  Join us anytime between January 22nd and February 4th for an innovative 4-course menu.  Try interesting entrees\, appetizers\, and dessert you won’t find any other time\, all for only $39.  You can preview your options here first!
URL:https://www.thecorkpub.com/event/howard-county-restaurant-week/
CATEGORIES:Event Calendar
ATTACH;FMTTYPE=image/jpeg:https://www.thecorkpub.com/wp-content/uploads/2019/01/the-cork-ho-co-restaurant-weeks-2019-1.jpg
END:VEVENT
BEGIN:VEVENT
DTSTART;VALUE=DATE:20190101
DTEND;VALUE=DATE:20190102
DTSTAMP:20260420T035750
CREATED:20221123T074909Z
LAST-MODIFIED:20221123T112733Z
UID:2263-1546300800-1546387199@www.thecorkpub.com
SUMMARY:Happy New Year!
DESCRIPTION:Happy New Year!  We had a great time welcoming 2019 with you all last night\, but we’re closed today to give our hardworking staff a holiday.  We hope you have a great start to the new year!  After a day of rest\, recovery\, and family\, we’ll be back to our regular hours tomorrow.
URL:https://www.thecorkpub.com/event/happy-new-year/
CATEGORIES:Event Calendar
ATTACH;FMTTYPE=image/jpeg:https://www.thecorkpub.com/wp-content/uploads/2018/11/the-cork-happy-new-year.jpg
END:VEVENT
BEGIN:VEVENT
DTSTART;TZID=America/New_York:20181231T150000
DTEND;TZID=America/New_York:20181231T230000
DTSTAMP:20260420T035750
CREATED:20221123T073312Z
LAST-MODIFIED:20221123T073312Z
UID:2260-1546268400-1546297200@www.thecorkpub.com
SUMMARY:New Year's Eve Party
DESCRIPTION:It’s hard to believe\, but it’s time to say goodbye to 2018!  Join us as we welcome 2019 with our annual New Year’s Eve Party.  Ring in the new year with delicious food\, amazing drink specials\, and the company of all your favorite people.  Right here at The Cork from 3:00 PM to 1:00 AM. \nWith a welcome like this\, 2019 is sure to be a great year!
URL:https://www.thecorkpub.com/event/new-years-eve-party/
CATEGORIES:Event Calendar
ATTACH;FMTTYPE=image/jpeg:https://www.thecorkpub.com/wp-content/uploads/2018/11/the-cork-new-years-eve.jpg
END:VEVENT
BEGIN:VEVENT
DTSTART;TZID=America/New_York:20181230T103000
DTEND;TZID=America/New_York:20181230T133000
DTSTAMP:20260420T035750
CREATED:20221123T085924Z
LAST-MODIFIED:20221123T085924Z
UID:2297-1546165800-1546176600@www.thecorkpub.com
SUMMARY:Jazz Brunch with Tom Pieciak & Ethan Veliky
DESCRIPTION:For our last brunch of the year\, we have something special in store!  Enjoy the sound of two up-and-coming local musicians as you eat\, drink\, and say goodbye to 2018!  The music lasts from 10:30 AM to 1:30 PM\, but you can continue to order from our brunch menu until 3:00 PM today.  Let’s make this Jazz Brunch the best one yet!  (Until next year\, at least.)
URL:https://www.thecorkpub.com/event/jazz-brunch-with-tom-pieciak-ethan-veliky/
CATEGORIES:Event Calendar
ATTACH;FMTTYPE=image/jpeg:https://www.thecorkpub.com/wp-content/uploads/2018/12/the-cork-jazz-brunch-dec-30th.jpg
END:VEVENT
BEGIN:VEVENT
DTSTART;VALUE=DATE:20181225
DTEND;VALUE=DATE:20181226
DTSTAMP:20260420T035750
CREATED:20221123T074354Z
LAST-MODIFIED:20221123T074354Z
UID:2262-1545696000-1545782399@www.thecorkpub.com
SUMMARY:Merry Christmas!
DESCRIPTION:Merry Christmas\, everyone!  We’re closed today to celebrate the holiday\, but we hope you have a wonderful day filled with all the things (and people) you love!  We’ll be back to our normal hours tomorrow.
URL:https://www.thecorkpub.com/event/merry-christmas/
CATEGORIES:Event Calendar
ATTACH;FMTTYPE=image/jpeg:https://www.thecorkpub.com/wp-content/uploads/2018/11/the-cork-merry-christmas-2.jpg
END:VEVENT
BEGIN:VEVENT
DTSTART;TZID=America/New_York:20181224T150000
DTEND;TZID=America/New_York:20181224T220000
DTSTAMP:20260420T035750
CREATED:20221123T072559Z
LAST-MODIFIED:20221123T072559Z
UID:2257-1545663600-1545688800@www.thecorkpub.com
SUMMARY:Christmas Eve Dinner
DESCRIPTION:We have our own holiday traditions to uphold!  Like our famous Christmas Eve Dinner.  This year\, we’ll be open from 3:00 PM to 10:00 PM on Christmas Eve again to serve a special meal for you\, your family\, and your friends.  It’s not too early to start making reservations! \nCheck out our featured three-course Prix-Fixe Menu: \n \nOr\, if you’re craving something a little different\, order any individual option from our Select Menu:
URL:https://www.thecorkpub.com/event/christmas-eve-dinner/
CATEGORIES:Event Calendar
ATTACH;FMTTYPE=image/jpeg:https://www.thecorkpub.com/wp-content/uploads/2018/11/the-cork-christmas-eve.jpg
END:VEVENT
BEGIN:VEVENT
DTSTART;TZID=America/New_York:20181222T203000
DTEND;TZID=America/New_York:20181222T203000
DTSTAMP:20260420T035750
CREATED:20221123T092527Z
LAST-MODIFIED:20221124T101801Z
UID:2306-1545510600-1545510600@www.thecorkpub.com
SUMMARY:Greg Kneller Live!
DESCRIPTION:Back-to-back weekends of Greg Kneller?!  Think of it as an early present.  If you missed The Cork’s resident musician last Saturday\, you get a second chance to catch him tonight!  His setlist starts at 8:30 PM\, so we hope to see you then!
URL:https://www.thecorkpub.com/event/greg-kneller-live-4/
CATEGORIES:Music Calender
ATTACH;FMTTYPE=image/gif:https://www.thecorkpub.com/wp-content/uploads/2018/12/the-cork-greg-kneller-dec-22nd.gif
END:VEVENT
BEGIN:VEVENT
DTSTART;VALUE=DATE:20181217
DTEND;VALUE=DATE:20181218
DTSTAMP:20260420T035750
CREATED:20221123T085220Z
LAST-MODIFIED:20221123T085220Z
UID:2291-1545004800-1545091199@www.thecorkpub.com
SUMMARY:Plan Your Holiday Party Here
DESCRIPTION:The holidays are alive and well at The Cork!  And reservations are already filling up fast.  Whether you’re looking for a place to host your next office party or cater your private event\, we can take care of everything!  Just call to make arrangements today.
URL:https://www.thecorkpub.com/event/plan-your-holiday-party-here-5/
CATEGORIES:Event Calendar
ATTACH;FMTTYPE=image/jpeg:https://www.thecorkpub.com/wp-content/uploads/2018/11/the-cork-holiday-parties-1.jpg
END:VEVENT
BEGIN:VEVENT
DTSTART;TZID=America/New_York:20181204T180000
DTEND;TZID=America/New_York:20181204T180000
DTSTAMP:20260420T035750
CREATED:20221123T081128Z
LAST-MODIFIED:20221123T081256Z
UID:2275-1543946400-1543946400@www.thecorkpub.com
SUMMARY:1st Cocktail & Wine Tasting
DESCRIPTION:If you look forward to our information wine tastings every month\, then you won’t want to miss this!  In December\, we’re hosting our 1st ever Cocktail & Wine Tasting!  Featuring delicious St. Francis wines\, we’re also mixing things up with our twist on handcrafted cocktail classics.   With 5 courses of perfect menu pairings\, you have plenty of reasons to reserve your spot now. \n  \nHere’s the full preview:
URL:https://www.thecorkpub.com/event/1st-cocktail-wine-tasting/
CATEGORIES:Event Calendar
ATTACH;FMTTYPE=image/jpeg:https://www.thecorkpub.com/wp-content/uploads/2018/11/the-cork-cocktail-and-wine-tasting.jpg
END:VEVENT
BEGIN:VEVENT
DTSTART;VALUE=DATE:20181126
DTEND;VALUE=DATE:20181127
DTSTAMP:20260420T035750
CREATED:20221123T080418Z
LAST-MODIFIED:20221123T080418Z
UID:2272-1543190400-1543276799@www.thecorkpub.com
SUMMARY:Plan Your Holiday Party Here
DESCRIPTION:The holidays are alive and well at The Cork!  And reservations are already filling up fast.  Whether you’re looking for a place to host your next office party or cater your private event\, we can take care of everything!  Just call to make arrangements today.
URL:https://www.thecorkpub.com/event/plan-your-holiday-party-here-4/
CATEGORIES:Event Calendar
ATTACH;FMTTYPE=image/jpeg:https://www.thecorkpub.com/wp-content/uploads/2018/11/the-cork-holiday-parties-1.jpg
END:VEVENT
BEGIN:VEVENT
DTSTART;VALUE=DATE:20181122
DTEND;VALUE=DATE:20181123
DTSTAMP:20260420T035750
CREATED:20221123T060631Z
LAST-MODIFIED:20221123T060631Z
UID:2235-1542844800-1542931199@www.thecorkpub.com
SUMMARY:Thanksgiving Day
DESCRIPTION:In honor of the holiday\, we will be closed.  But we wish you and yours a very Happy Thanksgiving!  We’ll reopen as normal tomorrow.
URL:https://www.thecorkpub.com/event/thanksgiving-day/
CATEGORIES:Event Calendar
ATTACH;FMTTYPE=image/jpeg:https://www.thecorkpub.com/wp-content/uploads/2018/10/the-cork-thanksgiving.jpg
END:VEVENT
BEGIN:VEVENT
DTSTART;VALUE=DATE:20181119
DTEND;VALUE=DATE:20181120
DTSTAMP:20260420T035750
CREATED:20221123T075938Z
LAST-MODIFIED:20221123T075938Z
UID:2270-1542585600-1542671999@www.thecorkpub.com
SUMMARY:Plan Your Holiday Party Here
DESCRIPTION:The holidays are alive and well at The Cork!  And reservations are already filling up fast.  Whether you’re looking for a place to host your next office party or cater your private event\, we can take care of everything!  Just call to make arrangements today.
URL:https://www.thecorkpub.com/event/plan-your-holiday-party-here-3/
CATEGORIES:Event Calendar
ATTACH;FMTTYPE=image/jpeg:https://www.thecorkpub.com/wp-content/uploads/2018/11/the-cork-holiday-parties-1.jpg
END:VEVENT
BEGIN:VEVENT
DTSTART;TZID=America/New_York:20181118T103000
DTEND;TZID=America/New_York:20181118T133000
DTSTAMP:20260420T035750
CREATED:20221123T071548Z
LAST-MODIFIED:20221123T071548Z
UID:2254-1542537000-1542547800@www.thecorkpub.com
SUMMARY:Folk Brunch with Garrett Mabe
DESCRIPTION:What can we do to make the best brunch in the ‘Burg even better?  How about a little music?  On Sunday\, November 18th\, we’re hosting a Folk Brunch featuring musician Garrett Mabe.  Enjoy the soft sounds of folk rock as you brunch\, anytime between 10:30 AM and 1:30 PM.
URL:https://www.thecorkpub.com/event/folk-brunch-with-garrett-mabe/
CATEGORIES:Event Calendar
ATTACH;FMTTYPE=image/jpeg:https://www.thecorkpub.com/wp-content/uploads/2018/10/the-cork-folk-brunch.jpg
END:VEVENT
BEGIN:VEVENT
DTSTART;TZID=America/New_York:20181116T203000
DTEND;TZID=America/New_York:20181116T213000
DTSTAMP:20260420T035750
CREATED:20221123T065243Z
LAST-MODIFIED:20221124T112502Z
UID:2245-1542400200-1542403800@www.thecorkpub.com
SUMMARY:Drew Stevyns Live!
DESCRIPTION:Ladies love it when Drew Stevyns comes to The Cork\, but to be honest–so do the guys!  Anyone who can play the guitar and sing like him is welcome back anytime.  Which is while he’ll be continuing our Live! Music series on November 16th!  It’s sure to be a packed house for this event\, so arrive early to grab a seat.  The music starts at 8:30 PM.
URL:https://www.thecorkpub.com/event/drew-stevyns-live-3/
CATEGORIES:Music Calender
ATTACH;FMTTYPE=image/jpeg:https://www.thecorkpub.com/wp-content/uploads/2018/10/the-cork-nov-16.jpg
END:VEVENT
BEGIN:VEVENT
DTSTART;VALUE=DATE:20181112
DTEND;VALUE=DATE:20181113
DTSTAMP:20260420T035750
CREATED:20221123T075558Z
LAST-MODIFIED:20221123T075558Z
UID:2268-1541980800-1542067199@www.thecorkpub.com
SUMMARY:Plan Your Holiday Party Here
DESCRIPTION:The holidays are alive and well at The Cork!  And reservations are already filling up fast.  Whether you’re looking for a place to host your next office party or cater your private event\, we can take care of everything!  Just call to make arrangements today.
URL:https://www.thecorkpub.com/event/plan-your-holiday-party-here-2/
CATEGORIES:Event Calendar
ATTACH;FMTTYPE=image/jpeg:https://www.thecorkpub.com/wp-content/uploads/2018/11/the-cork-holiday-parties-1.jpg
END:VEVENT
BEGIN:VEVENT
DTSTART;TZID=America/New_York:20181110T203000
DTEND;TZID=America/New_York:20181110T213000
DTSTAMP:20260420T035750
CREATED:20221123T064641Z
LAST-MODIFIED:20221124T112352Z
UID:2243-1541881800-1541885400@www.thecorkpub.com
SUMMARY:Richard Walton Live!
DESCRIPTION:The lead singer of Richard Walton Group is rocking the ‘Burg solo tonight and we hope you’re here for it!  When he’s not busy composing his own music\, he’s adding a little flair to your favorite rock ‘n’ roll songs.  If you haven’t heard him Live! before\, you don’t want to miss this.
URL:https://www.thecorkpub.com/event/richard-walton-live/
CATEGORIES:Music Calender
ATTACH;FMTTYPE=image/jpeg:https://www.thecorkpub.com/wp-content/uploads/2018/10/the-cork-nov-10th.jpg
END:VEVENT
BEGIN:VEVENT
DTSTART;TZID=America/New_York:20181109T203000
DTEND;TZID=America/New_York:20181109T213000
DTSTAMP:20260420T035750
CREATED:20221123T063720Z
LAST-MODIFIED:20221124T112401Z
UID:2241-1541795400-1541799000@www.thecorkpub.com
SUMMARY:Ben Sherman Live!
DESCRIPTION:As a master guitarist whose not afraid to experiment with sound\, Ben Sherman is ready to rock The Cork!  On November 9th\, he’s kicking off our weekend of Live! Music in what’s sure to be a memorable night.  Invite your friends and family to Eldersburg and mark your calendars now.  His performance starts at 8:30 PM!
URL:https://www.thecorkpub.com/event/ben-sherman/
CATEGORIES:Music Calender
ATTACH;FMTTYPE=image/jpeg:https://www.thecorkpub.com/wp-content/uploads/2018/10/the-cork-nov-9th.jpg
END:VEVENT
BEGIN:VEVENT
DTSTART;TZID=America/New_York:20181107T180000
DTEND;TZID=America/New_York:20181107T200000
DTSTAMP:20260420T035750
CREATED:20221123T054911Z
LAST-MODIFIED:20221123T054911Z
UID:2233-1541613600-1541620800@www.thecorkpub.com
SUMMARY:The Miracle of Music Book Signing & Discussion
DESCRIPTION:FREE Book discussion and concert with local author\, Jeannie Finnegan!  Her new book is called The Miracle of Music – Stories of Hope\, Understanding\, and Inspiration.  Here’s a little bit of background:\n \nAre you a caregiver for someone with a chronic or terminal illness or disorder? Are you looking for ways to connect with your loved one with Alzheimer’s\, dementia\, or a cognitive disorder?  Are you interested in learning about the powerful therapeutic effects of music for all of us?  Then join us at The County Cork as Jeannie Finnegan discusses her new book and the miraculous qualities of music for comfort\, connection\, and healing.  She will also be performing a “mini concert” as you enjoy our delicious wines and our chef’s creations.  Please invite friends or family members that you know will benefit from this inspiring discussion\, and share on your facebook page!  This event starts at 6:00 PM on November 7th and ends at 8:00 PM.  See you at The Cork!  \n \nJeannie Finnegan is an author\, speaker\, and Certified Dementia Practitioner working as a consultant primarily in Howard and Carroll counties\, helping long-term care\, memory care\, and assisted living communities develop and implement personalized care for residents\, including the use of music as a powerful therapeutic tool.  She also teaches caregiving seminars and trains staff working in long-term care and memory care. Jeannie resides in Woodstock\, Maryland and is one of our weekend performers at The County Cork.
URL:https://www.thecorkpub.com/event/the-miracle-of-music-book-signing-discussion/
CATEGORIES:Event Calendar
ATTACH;FMTTYPE=image/jpeg:https://www.thecorkpub.com/wp-content/uploads/2018/10/the-miracle-of-music-event.jpg
END:VEVENT
BEGIN:VEVENT
DTSTART;TZID=America/New_York:20181106T180000
DTEND;TZID=America/New_York:20181106T190000
DTSTAMP:20260420T035750
CREATED:20221123T042639Z
LAST-MODIFIED:20221124T112330Z
UID:2231-1541527200-1541530800@www.thecorkpub.com
SUMMARY:November Wine Tasting
DESCRIPTION:The wines of Spain are rich and flavorful–which is why we’re featuring them this month!  Specifically\, we want to showcase the many styles of Tempranillo. What better way to do that than with a wine tasting?  Join us November 6th at 6:00PM for specially prepared menu filled with one-night-only pairings.  Get your first look at the features here:
URL:https://www.thecorkpub.com/event/november-wine-tasting/
CATEGORIES:Event Calendar,Wine Tasting
ATTACH;FMTTYPE=image/jpeg:https://www.thecorkpub.com/wp-content/uploads/2018/10/the-cork-nov-wine-tasting.jpg
END:VEVENT
BEGIN:VEVENT
DTSTART;VALUE=DATE:20181105
DTEND;VALUE=DATE:20181106
DTSTAMP:20260420T035750
CREATED:20221123T072232Z
LAST-MODIFIED:20221123T072232Z
UID:2256-1541376000-1541462399@www.thecorkpub.com
SUMMARY:Plan Your Holiday Party Here
DESCRIPTION:The holidays are alive and well at The Cork!  And reservations are already filling up fast.  Whether you’re looking for a place to host your next office party or cater your private event\, we can take care of everything!  Just call to make arrangements today.
URL:https://www.thecorkpub.com/event/plan-your-holiday-party-here/
CATEGORIES:Event Calendar
ATTACH;FMTTYPE=image/jpeg:https://www.thecorkpub.com/wp-content/uploads/2018/11/the-cork-holiday-parties-1.jpg
END:VEVENT
BEGIN:VEVENT
DTSTART;TZID=America/New_York:20181103T203000
DTEND;TZID=America/New_York:20181103T213000
DTSTAMP:20260420T035750
CREATED:20221123T062958Z
LAST-MODIFIED:20221124T104436Z
UID:2239-1541277000-1541280600@www.thecorkpub.com
SUMMARY:Johnny Cole Live!
DESCRIPTION:If you love classic rock\, then you’re going to want to come out for the latest in our Live! Music series.   Johnny Cole is back and bringing an old school sound that will take you back (musically\, of course).  Come early for dinner and stay for his setlist–starting at 8:30 PM.
URL:https://www.thecorkpub.com/event/johnny-cole-live-2/
CATEGORIES:Music Calender
ATTACH;FMTTYPE=image/jpeg:https://www.thecorkpub.com/wp-content/uploads/2018/10/the-cork-nov-3rd.jpg
END:VEVENT
END:VCALENDAR