BEGIN:VCALENDAR
VERSION:2.0
PRODID:-//The County Cork Wine Pub - ECPv6.15.20//NONSGML v1.0//EN
CALSCALE:GREGORIAN
METHOD:PUBLISH
X-WR-CALNAME:The County Cork Wine Pub
X-ORIGINAL-URL:https://www.thecorkpub.com
X-WR-CALDESC:Events for The County Cork Wine Pub
REFRESH-INTERVAL;VALUE=DURATION:PT1H
X-Robots-Tag:noindex
X-PUBLISHED-TTL:PT1H
BEGIN:VTIMEZONE
TZID:America/New_York
BEGIN:DAYLIGHT
TZOFFSETFROM:-0500
TZOFFSETTO:-0400
TZNAME:EDT
DTSTART:20250309T070000
END:DAYLIGHT
BEGIN:STANDARD
TZOFFSETFROM:-0400
TZOFFSETTO:-0500
TZNAME:EST
DTSTART:20251102T060000
END:STANDARD
BEGIN:DAYLIGHT
TZOFFSETFROM:-0500
TZOFFSETTO:-0400
TZNAME:EDT
DTSTART:20260308T070000
END:DAYLIGHT
BEGIN:STANDARD
TZOFFSETFROM:-0400
TZOFFSETTO:-0500
TZNAME:EST
DTSTART:20261101T060000
END:STANDARD
BEGIN:DAYLIGHT
TZOFFSETFROM:-0500
TZOFFSETTO:-0400
TZNAME:EDT
DTSTART:20270314T070000
END:DAYLIGHT
BEGIN:STANDARD
TZOFFSETFROM:-0400
TZOFFSETTO:-0500
TZNAME:EST
DTSTART:20271107T060000
END:STANDARD
END:VTIMEZONE
BEGIN:VEVENT
DTSTART;TZID=America/New_York:20260505T180000
DTEND;TZID=America/New_York:20260505T210000
DTSTAMP:20260422T202145
CREATED:20260421T193232Z
LAST-MODIFIED:20260421T193232Z
UID:5003-1778004000-1778014800@www.thecorkpub.com
SUMMARY:Tour of California Wine Tasting
DESCRIPTION:
URL:https://www.thecorkpub.com/event/tour-of-california-wine-tasting/
CATEGORIES:Event Calendar
ATTACH;FMTTYPE=image/jpeg:https://www.thecorkpub.com/wp-content/uploads/2026/04/D9277E72-2E3A-49BB-82DA-585AC345BD7C-1.jpeg
END:VEVENT
BEGIN:VEVENT
DTSTART;TZID=America/New_York:20260506T180000
DTEND;TZID=America/New_York:20260506T210000
DTSTAMP:20260422T202145
CREATED:20260421T193428Z
LAST-MODIFIED:20260421T193428Z
UID:5006-1778090400-1778101200@www.thecorkpub.com
SUMMARY:Tour of California Wine Tasting
DESCRIPTION:
URL:https://www.thecorkpub.com/event/tour-of-california-wine-tasting-2/
CATEGORIES:Event Calendar
ATTACH;FMTTYPE=image/jpeg:https://www.thecorkpub.com/wp-content/uploads/2026/04/D9277E72-2E3A-49BB-82DA-585AC345BD7C-1.jpeg
END:VEVENT
BEGIN:VEVENT
DTSTART;TZID=America/New_York:20260508T200000
DTEND;TZID=America/New_York:20260508T230000
DTSTAMP:20260422T202145
CREATED:20260421T192218Z
LAST-MODIFIED:20260421T192218Z
UID:4995-1778270400-1778281200@www.thecorkpub.com
SUMMARY:John Decesare\, LIVE
DESCRIPTION:
URL:https://www.thecorkpub.com/event/john-decesare-live/
CATEGORIES:Music Calender
ATTACH;FMTTYPE=image/jpeg:https://www.thecorkpub.com/wp-content/uploads/2026/04/5.8-music.jpg
END:VEVENT
BEGIN:VEVENT
DTSTART;TZID=America/New_York:20260515T200000
DTEND;TZID=America/New_York:20260515T230000
DTSTAMP:20260422T202145
CREATED:20260421T192341Z
LAST-MODIFIED:20260421T192341Z
UID:4997-1778875200-1778886000@www.thecorkpub.com
SUMMARY:Vince & Erik\, LIVE
DESCRIPTION:
URL:https://www.thecorkpub.com/event/vince-erik-live-6/
CATEGORIES:Music Calender
ATTACH;FMTTYPE=image/jpeg:https://www.thecorkpub.com/wp-content/uploads/2026/04/5.15-music.jpg
END:VEVENT
BEGIN:VEVENT
DTSTART;TZID=America/New_York:20260522T200000
DTEND;TZID=America/New_York:20260522T230000
DTSTAMP:20260422T202145
CREATED:20260421T192453Z
LAST-MODIFIED:20260421T192453Z
UID:4999-1779480000-1779490800@www.thecorkpub.com
SUMMARY:Chuck Defontes\, LIVE
DESCRIPTION:
URL:https://www.thecorkpub.com/event/chuck-defontes-live-7/
ATTACH;FMTTYPE=image/jpeg:https://www.thecorkpub.com/wp-content/uploads/2026/04/5.22-music.jpg
END:VEVENT
BEGIN:VEVENT
DTSTART;TZID=America/New_York:20260529T200000
DTEND;TZID=America/New_York:20260529T230000
DTSTAMP:20260422T202145
CREATED:20260421T192718Z
LAST-MODIFIED:20260421T192718Z
UID:5001-1780084800-1780095600@www.thecorkpub.com
SUMMARY:Ryzing Son\, LIVE
DESCRIPTION:
URL:https://www.thecorkpub.com/event/ryzing-son-live-14/
CATEGORIES:Music Calender
ATTACH;FMTTYPE=image/jpeg:https://www.thecorkpub.com/wp-content/uploads/2026/04/5.29-music.jpg
END:VEVENT
END:VCALENDAR