BEGIN:VCALENDAR
VERSION:2.0
PRODID:-//The County Cork Wine Pub - ECPv6.15.20//NONSGML v1.0//EN
CALSCALE:GREGORIAN
METHOD:PUBLISH
X-WR-CALNAME:The County Cork Wine Pub
X-ORIGINAL-URL:https://www.thecorkpub.com
X-WR-CALDESC:Events for The County Cork Wine Pub
REFRESH-INTERVAL;VALUE=DURATION:PT1H
X-Robots-Tag:noindex
X-PUBLISHED-TTL:PT1H
BEGIN:VTIMEZONE
TZID:America/New_York
BEGIN:DAYLIGHT
TZOFFSETFROM:-0500
TZOFFSETTO:-0400
TZNAME:EDT
DTSTART:20170312T070000
END:DAYLIGHT
BEGIN:STANDARD
TZOFFSETFROM:-0400
TZOFFSETTO:-0500
TZNAME:EST
DTSTART:20171105T060000
END:STANDARD
BEGIN:DAYLIGHT
TZOFFSETFROM:-0500
TZOFFSETTO:-0400
TZNAME:EDT
DTSTART:20180311T070000
END:DAYLIGHT
BEGIN:STANDARD
TZOFFSETFROM:-0400
TZOFFSETTO:-0500
TZNAME:EST
DTSTART:20181104T060000
END:STANDARD
BEGIN:DAYLIGHT
TZOFFSETFROM:-0500
TZOFFSETTO:-0400
TZNAME:EDT
DTSTART:20190310T070000
END:DAYLIGHT
BEGIN:STANDARD
TZOFFSETFROM:-0400
TZOFFSETTO:-0500
TZNAME:EST
DTSTART:20191103T060000
END:STANDARD
END:VTIMEZONE
BEGIN:VEVENT
DTSTART;TZID=America/New_York:20180622T203000
DTEND;TZID=America/New_York:20180622T213000
DTSTAMP:20260420T165743
CREATED:20221122T101558Z
LAST-MODIFIED:20221124T105750Z
UID:2127-1529699400-1529703000@www.thecorkpub.com
SUMMARY:Easy Six Live!
DESCRIPTION:Easy Six returns tonight to help us celebrate the summer!  Our Live! Music series features this Towson-based duo again and again because they offer a performance you won’t want to miss!  It all starts tonight at 8:30 PM.
URL:https://www.thecorkpub.com/event/easy-six-live/
CATEGORIES:Music Calender
ATTACH;FMTTYPE=image/jpeg:https://www.thecorkpub.com/wp-content/uploads/2018/05/the-cork-june-22.jpg
END:VEVENT
BEGIN:VEVENT
DTSTART;TZID=America/New_York:20180615T203000
DTEND;TZID=America/New_York:20180615T230000
DTSTAMP:20260420T165743
CREATED:20221122T100922Z
LAST-MODIFIED:20221122T101013Z
UID:2125-1529094600-1529103600@www.thecorkpub.com
SUMMARY:Jeannie Finneran Live!
DESCRIPTION:Come out tonight for the debut of Jeannie Finneran at The Cork Wine Pub!  Hear her spin on your classic rock favorites as you enjoy late-night food and drink specials.
URL:https://www.thecorkpub.com/event/jeannie-finneran-live/
CATEGORIES:Music Calender
ATTACH;FMTTYPE=image/jpeg:https://www.thecorkpub.com/wp-content/uploads/2018/05/the-cork-june-15.jpg
END:VEVENT
BEGIN:VEVENT
DTSTART;TZID=America/New_York:20180608T203000
DTEND;TZID=America/New_York:20180608T230000
DTSTAMP:20260420T165743
CREATED:20221122T100409Z
LAST-MODIFIED:20221122T100409Z
UID:2123-1528489800-1528498800@www.thecorkpub.com
SUMMARY:Double Feature Live!
DESCRIPTION:The famous duo returns to The Cork with this weekend’s continuation of our Live!  Music series!  Catch Double Feature as they play all of your favorites\, starting at 8:30 PM tonight.
URL:https://www.thecorkpub.com/event/double-feature-live/
CATEGORIES:Music Calender
ATTACH;FMTTYPE=image/jpeg:https://www.thecorkpub.com/wp-content/uploads/2018/05/the-cork-june-8.jpg
END:VEVENT
BEGIN:VEVENT
DTSTART;TZID=America/New_York:20180601T203000
DTEND;TZID=America/New_York:20180601T230000
DTSTAMP:20260420T165743
CREATED:20221122T105505Z
LAST-MODIFIED:20221122T105505Z
UID:2140-1527885000-1527894000@www.thecorkpub.com
SUMMARY:Matt McMullin Live!
DESCRIPTION:Start your summer with our Live! Music series.  Tonight\, enjoy the sounds of Matt McMulliun as he serenades The Cork.  He plays at 8:30 PM.
URL:https://www.thecorkpub.com/event/matt-mcmullin-live/
CATEGORIES:Music Calender
ATTACH;FMTTYPE=image/jpeg:https://www.thecorkpub.com/wp-content/uploads/2018/05/the-cork-june-1.jpg
END:VEVENT
BEGIN:VEVENT
DTSTART;TZID=America/New_York:20180525T203000
DTEND;TZID=America/New_York:20180525T230000
DTSTAMP:20260420T165743
CREATED:20221122T105200Z
LAST-MODIFIED:20221122T105200Z
UID:2138-1527280200-1527289200@www.thecorkpub.com
SUMMARY:Vox Live!
DESCRIPTION:This weekend\, our Live! Music series continues for one night only!  We’re taking a break for Memorial Day\, so don’t miss Vox tonight\, starting at 8:30 PM.
URL:https://www.thecorkpub.com/event/vox-live/
CATEGORIES:Music Calender
ATTACH;FMTTYPE=image/jpeg:https://www.thecorkpub.com/wp-content/uploads/2018/05/the-cork-may-25.jpg
END:VEVENT
BEGIN:VEVENT
DTSTART;TZID=America/New_York:20180518T203000
DTEND;TZID=America/New_York:20180518T230000
DTSTAMP:20260420T165743
CREATED:20221122T072941Z
LAST-MODIFIED:20221122T095232Z
UID:2107-1526675400-1526684400@www.thecorkpub.com
SUMMARY:Easy Six Live!
DESCRIPTION:Easy Six is a Towson based rock band\, that plays both original music and cover songs at various venues around Baltimore. \nCome out and hear them play Live! on Friday\, May 18th at 8:30 PM.
URL:https://www.thecorkpub.com/event/test-event-1/
CATEGORIES:Music Calender
ATTACH;FMTTYPE=image/png:https://www.thecorkpub.com/wp-content/uploads/2018/02/the-cork-may-18.png
END:VEVENT
BEGIN:VEVENT
DTSTART;TZID=America/New_York:20180511T203000
DTEND;TZID=America/New_York:20180511T230000
DTSTAMP:20260420T165743
CREATED:20221122T082004Z
LAST-MODIFIED:20221122T093214Z
UID:2115-1526070600-1526079600@www.thecorkpub.com
SUMMARY:Greg Kneller Live!
DESCRIPTION:You don’t know Greg Kneller until you’ve heard him play!  Fortunately\, you can catch him tonight at The Cork\, starting at 8:30 PM.
URL:https://www.thecorkpub.com/event/test-event4/
CATEGORIES:Music Calender
ATTACH;FMTTYPE=image/jpeg:https://www.thecorkpub.com/wp-content/uploads/2018/02/the-cork-may-11.jpg
END:VEVENT
BEGIN:VEVENT
DTSTART;TZID=America/New_York:20180505T203000
DTEND;TZID=America/New_York:20180505T230000
DTSTAMP:20260420T165743
CREATED:20221122T083748Z
LAST-MODIFIED:20221122T093839Z
UID:2117-1525552200-1525561200@www.thecorkpub.com
SUMMARY:Drew Stevyns Live!
DESCRIPTION:Tonight\, Drew Stevyns is returning to The Cork!  You may recognize him from America’s Got Talent\, but now he’s bringing his unique sound to Eldersburg.  Arrive early to grab a seat and enjoy our late-night menu throughout the evening!
URL:https://www.thecorkpub.com/event/music-calender1/
CATEGORIES:Music Calender,Genre
ATTACH;FMTTYPE=image/jpeg:https://www.thecorkpub.com/wp-content/uploads/2018/02/the-cork-may-5.jpg
END:VEVENT
BEGIN:VEVENT
DTSTART;TZID=America/New_York:20180504T200000
DTEND;TZID=America/New_York:20180504T230000
DTSTAMP:20260420T165743
CREATED:20221122T084216Z
LAST-MODIFIED:20221122T094315Z
UID:2119-1525464000-1525474800@www.thecorkpub.com
SUMMARY:Dream Ticket Live!
DESCRIPTION:May the fourth be with you…as you join us for the continuation of our Live! Music series tonight.  Dream Ticket will help you kick off your weekend with their set list starting at 8:30 PM.
URL:https://www.thecorkpub.com/event/music-calender2/
CATEGORIES:Music Calender
ATTACH;FMTTYPE=image/jpeg:https://www.thecorkpub.com/wp-content/uploads/2018/02/the-cork-may-4.jpg
END:VEVENT
END:VCALENDAR