BEGIN:VCALENDAR
VERSION:2.0
PRODID:-//The County Cork Wine Pub - ECPv6.15.20//NONSGML v1.0//EN
CALSCALE:GREGORIAN
METHOD:PUBLISH
X-WR-CALNAME:The County Cork Wine Pub
X-ORIGINAL-URL:https://www.thecorkpub.com
X-WR-CALDESC:Events for The County Cork Wine Pub
REFRESH-INTERVAL;VALUE=DURATION:PT1H
X-Robots-Tag:noindex
X-PUBLISHED-TTL:PT1H
BEGIN:VTIMEZONE
TZID:America/New_York
BEGIN:DAYLIGHT
TZOFFSETFROM:-0500
TZOFFSETTO:-0400
TZNAME:EDT
DTSTART:20170312T070000
END:DAYLIGHT
BEGIN:STANDARD
TZOFFSETFROM:-0400
TZOFFSETTO:-0500
TZNAME:EST
DTSTART:20171105T060000
END:STANDARD
BEGIN:DAYLIGHT
TZOFFSETFROM:-0500
TZOFFSETTO:-0400
TZNAME:EDT
DTSTART:20180311T070000
END:DAYLIGHT
BEGIN:STANDARD
TZOFFSETFROM:-0400
TZOFFSETTO:-0500
TZNAME:EST
DTSTART:20181104T060000
END:STANDARD
BEGIN:DAYLIGHT
TZOFFSETFROM:-0500
TZOFFSETTO:-0400
TZNAME:EDT
DTSTART:20190310T070000
END:DAYLIGHT
BEGIN:STANDARD
TZOFFSETFROM:-0400
TZOFFSETTO:-0500
TZNAME:EST
DTSTART:20191103T060000
END:STANDARD
BEGIN:DAYLIGHT
TZOFFSETFROM:-0500
TZOFFSETTO:-0400
TZNAME:EDT
DTSTART:20200308T070000
END:DAYLIGHT
BEGIN:STANDARD
TZOFFSETFROM:-0400
TZOFFSETTO:-0500
TZNAME:EST
DTSTART:20201101T060000
END:STANDARD
END:VTIMEZONE
BEGIN:VEVENT
DTSTART;TZID=America/New_York:20190215T203000
DTEND;TZID=America/New_York:20190215T203000
DTSTAMP:20260420T120218
CREATED:20221123T101025Z
LAST-MODIFIED:20221123T101025Z
UID:2322-1550262600-1550262600@www.thecorkpub.com
SUMMARY:Ben Sherman Live!
DESCRIPTION:Come see the man behind the guitar!  Our Live! Music series continues with Ben Sherman.  He’s classically trained and ready to rock the house.  It all starts tonight at 8:30 PM.
URL:https://www.thecorkpub.com/event/ben-sherman-live-2/
CATEGORIES:Music Calender
ATTACH;FMTTYPE=image/jpeg:https://www.thecorkpub.com/wp-content/uploads/2019/01/the-cork-feb-15th-ben-sherman.jpg
END:VEVENT
BEGIN:VEVENT
DTSTART;TZID=America/New_York:20190203T203000
DTEND;TZID=America/New_York:20190203T203000
DTSTAMP:20260420T120218
CREATED:20221123T105958Z
LAST-MODIFIED:20221123T105958Z
UID:2331-1549225800-1549225800@www.thecorkpub.com
SUMMARY:The Brahman Noodles Live!
DESCRIPTION:You haven’t heard anything quite like The Brahman Noodles before! At least not at The Cork.  Tonight\, we welcome this Jug Funk collection of musicians to spice up your Saturday night.  Don’t miss their first ever appearance\, starting at 8:30 PM.
URL:https://www.thecorkpub.com/event/the-brahman-noodles-live/
CATEGORIES:Music Calender
ATTACH;FMTTYPE=image/jpeg:https://www.thecorkpub.com/wp-content/uploads/2019/02/the-cork-march-2nd-brahman-noodles.jpg
END:VEVENT
BEGIN:VEVENT
DTSTART;TZID=America/New_York:20190202T203000
DTEND;TZID=America/New_York:20190202T203000
DTSTAMP:20260420T120218
CREATED:20221123T100128Z
LAST-MODIFIED:20221123T100128Z
UID:2318-1549139400-1549139400@www.thecorkpub.com
SUMMARY:Drew Stevyns Live!
DESCRIPTION:Our Live! Music series just wouldn’t be the same without local celebrity\, Drew Stevyns!  His soulful voice and guitar melodies make each performance a night to remember.  So\, catch his next appearance at The Cork–tonight at 8:30 PM!
URL:https://www.thecorkpub.com/event/drew-stevyns-live-4/
CATEGORIES:Music Calender
ATTACH;FMTTYPE=image/jpeg:https://www.thecorkpub.com/wp-content/uploads/2019/01/the-cork-feb-2nd-drew-stevyns.jpg
END:VEVENT
BEGIN:VEVENT
DTSTART;TZID=America/New_York:20190201T203000
DTEND;TZID=America/New_York:20190201T203000
DTSTAMP:20260420T120218
CREATED:20221123T095225Z
LAST-MODIFIED:20221123T095225Z
UID:2314-1549053000-1549053000@www.thecorkpub.com
SUMMARY:Dream Ticket Live!
DESCRIPTION:Hear this acoustic duo ring in February!  You’ll love their rock renditions\, but you never know what songs will be in their setlist.  Dream Ticket starts playing at 8:30 PM\, but come early for food\, friends\, and more!
URL:https://www.thecorkpub.com/event/dream-ticket-live-2/
CATEGORIES:Music Calender
ATTACH;FMTTYPE=image/jpeg:https://www.thecorkpub.com/wp-content/uploads/2019/01/the-cork-feb-1st-dream-ticket.jpg
END:VEVENT
BEGIN:VEVENT
DTSTART;TZID=America/New_York:20181222T203000
DTEND;TZID=America/New_York:20181222T203000
DTSTAMP:20260420T120218
CREATED:20221123T092527Z
LAST-MODIFIED:20221124T101801Z
UID:2306-1545510600-1545510600@www.thecorkpub.com
SUMMARY:Greg Kneller Live!
DESCRIPTION:Back-to-back weekends of Greg Kneller?!  Think of it as an early present.  If you missed The Cork’s resident musician last Saturday\, you get a second chance to catch him tonight!  His setlist starts at 8:30 PM\, so we hope to see you then!
URL:https://www.thecorkpub.com/event/greg-kneller-live-4/
CATEGORIES:Music Calender
ATTACH;FMTTYPE=image/gif:https://www.thecorkpub.com/wp-content/uploads/2018/12/the-cork-greg-kneller-dec-22nd.gif
END:VEVENT
BEGIN:VEVENT
DTSTART;TZID=America/New_York:20181116T203000
DTEND;TZID=America/New_York:20181116T213000
DTSTAMP:20260420T120218
CREATED:20221123T065243Z
LAST-MODIFIED:20221124T112502Z
UID:2245-1542400200-1542403800@www.thecorkpub.com
SUMMARY:Drew Stevyns Live!
DESCRIPTION:Ladies love it when Drew Stevyns comes to The Cork\, but to be honest–so do the guys!  Anyone who can play the guitar and sing like him is welcome back anytime.  Which is while he’ll be continuing our Live! Music series on November 16th!  It’s sure to be a packed house for this event\, so arrive early to grab a seat.  The music starts at 8:30 PM.
URL:https://www.thecorkpub.com/event/drew-stevyns-live-3/
CATEGORIES:Music Calender
ATTACH;FMTTYPE=image/jpeg:https://www.thecorkpub.com/wp-content/uploads/2018/10/the-cork-nov-16.jpg
END:VEVENT
BEGIN:VEVENT
DTSTART;TZID=America/New_York:20181110T203000
DTEND;TZID=America/New_York:20181110T213000
DTSTAMP:20260420T120218
CREATED:20221123T064641Z
LAST-MODIFIED:20221124T112352Z
UID:2243-1541881800-1541885400@www.thecorkpub.com
SUMMARY:Richard Walton Live!
DESCRIPTION:The lead singer of Richard Walton Group is rocking the ‘Burg solo tonight and we hope you’re here for it!  When he’s not busy composing his own music\, he’s adding a little flair to your favorite rock ‘n’ roll songs.  If you haven’t heard him Live! before\, you don’t want to miss this.
URL:https://www.thecorkpub.com/event/richard-walton-live/
CATEGORIES:Music Calender
ATTACH;FMTTYPE=image/jpeg:https://www.thecorkpub.com/wp-content/uploads/2018/10/the-cork-nov-10th.jpg
END:VEVENT
BEGIN:VEVENT
DTSTART;TZID=America/New_York:20181109T203000
DTEND;TZID=America/New_York:20181109T213000
DTSTAMP:20260420T120218
CREATED:20221123T063720Z
LAST-MODIFIED:20221124T112401Z
UID:2241-1541795400-1541799000@www.thecorkpub.com
SUMMARY:Ben Sherman Live!
DESCRIPTION:As a master guitarist whose not afraid to experiment with sound\, Ben Sherman is ready to rock The Cork!  On November 9th\, he’s kicking off our weekend of Live! Music in what’s sure to be a memorable night.  Invite your friends and family to Eldersburg and mark your calendars now.  His performance starts at 8:30 PM!
URL:https://www.thecorkpub.com/event/ben-sherman/
CATEGORIES:Music Calender
ATTACH;FMTTYPE=image/jpeg:https://www.thecorkpub.com/wp-content/uploads/2018/10/the-cork-nov-9th.jpg
END:VEVENT
BEGIN:VEVENT
DTSTART;TZID=America/New_York:20181103T203000
DTEND;TZID=America/New_York:20181103T213000
DTSTAMP:20260420T120218
CREATED:20221123T062958Z
LAST-MODIFIED:20221124T104436Z
UID:2239-1541277000-1541280600@www.thecorkpub.com
SUMMARY:Johnny Cole Live!
DESCRIPTION:If you love classic rock\, then you’re going to want to come out for the latest in our Live! Music series.   Johnny Cole is back and bringing an old school sound that will take you back (musically\, of course).  Come early for dinner and stay for his setlist–starting at 8:30 PM.
URL:https://www.thecorkpub.com/event/johnny-cole-live-2/
CATEGORIES:Music Calender
ATTACH;FMTTYPE=image/jpeg:https://www.thecorkpub.com/wp-content/uploads/2018/10/the-cork-nov-3rd.jpg
END:VEVENT
BEGIN:VEVENT
DTSTART;TZID=America/New_York:20181102T203000
DTEND;TZID=America/New_York:20181102T213000
DTSTAMP:20260420T120218
CREATED:20221123T061701Z
LAST-MODIFIED:20221124T104418Z
UID:2237-1541190600-1541194200@www.thecorkpub.com
SUMMARY:Easy Six Live!
DESCRIPTION:The Towson duo\, Easy Six\, is helping us jumpstart our Live! Music series for November!  Come out on Friday\, November 2nd for their return to The Cork.  You’ll be dancing along to their eclectic sound as you enjoy drink specials and selections from our Late Night Menu.  We’ll see you there!
URL:https://www.thecorkpub.com/event/easy-six-live-3/
CATEGORIES:Music Calender
ATTACH;FMTTYPE=image/jpeg:https://www.thecorkpub.com/wp-content/uploads/2018/10/the-cork-nov-2nd.jpg
END:VEVENT
BEGIN:VEVENT
DTSTART;TZID=America/New_York:20181027T203000
DTEND;TZID=America/New_York:20181027T213000
DTSTAMP:20260420T120218
CREATED:20221123T041510Z
LAST-MODIFIED:20221124T112123Z
UID:2229-1540672200-1540675800@www.thecorkpub.com
SUMMARY:TOAST Live!
DESCRIPTION:You can’t cheers the end of a great month without a little TOAST!  In this case\, we’re bringing in the full band to send off October with a performance you won’t soon forget.  Celebrate your Halloween weekend with delicious food\, handcrafted cocktails\, and Live! Music.  All at The Cork on Saturday\, October 27th.
URL:https://www.thecorkpub.com/event/toast-live-2/
CATEGORIES:Music Calender
ATTACH;FMTTYPE=image/jpeg:https://www.thecorkpub.com/wp-content/uploads/2018/09/the-cork-oct-27.jpg
END:VEVENT
BEGIN:VEVENT
DTSTART;TZID=America/New_York:20181026T203000
DTEND;TZID=America/New_York:20181026T213000
DTSTAMP:20260420T120218
CREATED:20221123T040624Z
LAST-MODIFIED:20221124T111936Z
UID:2227-1540585800-1540589400@www.thecorkpub.com
SUMMARY:Vox Live!
DESCRIPTION:Here to help us close out another month is Vox!  Our Live! Music series wouldn’t be complete without his memorable acoustic performance.  So\, we won’t even try.  On October 26th\, you might even hear some spooky songs to get you in the Halloween spirit…if you’re lucky.  We hope to see you there!
URL:https://www.thecorkpub.com/event/vox-live-6/
CATEGORIES:Music Calender
ATTACH;FMTTYPE=image/jpeg:https://www.thecorkpub.com/wp-content/uploads/2018/09/the-cork-oct-26.jpg
END:VEVENT
BEGIN:VEVENT
DTSTART;TZID=America/New_York:20181020T203000
DTEND;TZID=America/New_York:20181020T213000
DTSTAMP:20260420T120218
CREATED:20221123T035722Z
LAST-MODIFIED:20221124T111905Z
UID:2225-1540067400-1540071000@www.thecorkpub.com
SUMMARY:Matt McMullin Live!
DESCRIPTION:As a Carroll County favorite\, we’re happy to host Matt McMullin Saturday\, October 20th!  With a decade of experience and a wide variety of music under his belt\, he brings a unique sound to each performance.  You never quite know what songs you’ll hear during his set\, but you’re guaranteed to love  them regardless!  Bring your requests\, and we’ll see you then.
URL:https://www.thecorkpub.com/event/matt-mcmullin-live-3/
CATEGORIES:Music Calender
ATTACH;FMTTYPE=image/jpeg:https://www.thecorkpub.com/wp-content/uploads/2018/09/the-cork-oct-20.jpg
END:VEVENT
BEGIN:VEVENT
DTSTART;TZID=America/New_York:20181019T203000
DTEND;TZID=America/New_York:20181019T213000
DTSTAMP:20260420T120218
CREATED:20221123T035154Z
LAST-MODIFIED:20221124T111730Z
UID:2223-1539981000-1539984600@www.thecorkpub.com
SUMMARY:Stan Whitaker Live!
DESCRIPTION:Come hear the progressive musician who’s been rocking since the ’70s!  A talented guitarist and singer\, Stan Whitaker doesn’t just play music.  He offers an entertaining experience you don’t often find.  Still\, you can see it for yourself at the Cork this weekend!  Just mark Friday\, October 19th on your calendar early\, so you won’t miss it.
URL:https://www.thecorkpub.com/event/stan-whitaker-live-2/
CATEGORIES:Music Calender
ATTACH;FMTTYPE=image/jpeg:https://www.thecorkpub.com/wp-content/uploads/2018/09/the-cork-oct-19.jpg
END:VEVENT
BEGIN:VEVENT
DTSTART;TZID=America/New_York:20181013T203000
DTEND;TZID=America/New_York:20181013T213000
DTSTAMP:20260420T120218
CREATED:20221122T143958Z
LAST-MODIFIED:20221124T111706Z
UID:2220-1539462600-1539466200@www.thecorkpub.com
SUMMARY:Drew Stevyns Live!
DESCRIPTION:Our local celebrity is back and better than ever!  You may have see Drew Stevyns on America’s Got Talent\, but that’s nothing compared to hearing his sultry tones live.  Fortunately\, you can experience that at The Cork on Saturday\, October 13th.  Come for the food\, stay for the music–and don’t forget to invite all your friends!
URL:https://www.thecorkpub.com/event/drew-stevyns-live-2/
CATEGORIES:Music Calender
ATTACH;FMTTYPE=image/jpeg:https://www.thecorkpub.com/wp-content/uploads/2018/09/the-cork-oct-13.jpg
END:VEVENT
BEGIN:VEVENT
DTSTART;TZID=America/New_York:20181012T203000
DTEND;TZID=America/New_York:20181012T213000
DTSTAMP:20260420T120218
CREATED:20221122T143507Z
LAST-MODIFIED:20221124T111631Z
UID:2218-1539376200-1539379800@www.thecorkpub.com
SUMMARY:Brandon Robey Live!
DESCRIPTION:What’s a beautiful fall Friday without a little Live! Music?  Tonight\, you can enjoy both with Brandon Robey at The Cork.  Hear his acoustic tones while you eat\, drink\, and generally be merry at your favorite neighborhood hang.  The music starts at 8:30 PM\, but join us for dinner and secure your spot early!
URL:https://www.thecorkpub.com/event/brandon-robey-live/
CATEGORIES:Music Calender
ATTACH;FMTTYPE=image/jpeg:https://www.thecorkpub.com/wp-content/uploads/2018/09/the-cork-oct-12th-compare.jpg
END:VEVENT
BEGIN:VEVENT
DTSTART;TZID=America/New_York:20181006T203000
DTEND;TZID=America/New_York:20181006T213000
DTSTAMP:20260420T120218
CREATED:20221122T143230Z
LAST-MODIFIED:20221124T111454Z
UID:2217-1538857800-1538861400@www.thecorkpub.com
SUMMARY:Joint Venture Live!
DESCRIPTION:We’re adding a new local band to our Live! Music series this month with Joint Venture!  Join us to celebrate their debut on Saturday\, October 6th.  This trio is going to rock The Cork–quite literally.  By bringing back the classics\, they’re sure to liven up your weekend!
URL:https://www.thecorkpub.com/event/joint-venture-live/
CATEGORIES:Music Calender
ATTACH;FMTTYPE=image/jpeg:https://www.thecorkpub.com/wp-content/uploads/2018/09/the-cork-oct-6.jpg
END:VEVENT
BEGIN:VEVENT
DTSTART;TZID=America/New_York:20181005T203000
DTEND;TZID=America/New_York:20181005T213000
DTSTAMP:20260420T120218
CREATED:20221122T142641Z
LAST-MODIFIED:20221124T111555Z
UID:2214-1538771400-1538775000@www.thecorkpub.com
SUMMARY:Greg Kneller Live!
DESCRIPTION:After a nearly 3 month hiatus\, The Cork’s own Greg Kneller is back!  And ready to entertain.  October’s off to a great start with his acoustic blend of rock and pop.  His setlist includes some familiar tunes\, as well as some original compositions you have to hear!  Catch them all October 5th at 8:30 PM.
URL:https://www.thecorkpub.com/event/greg-kneller-live-2/
CATEGORIES:Music Calender
ATTACH;FMTTYPE=image/jpeg:https://www.thecorkpub.com/wp-content/uploads/2018/09/the-cork-oct-5.jpg
END:VEVENT
BEGIN:VEVENT
DTSTART;TZID=America/New_York:20180929T203000
DTEND;TZID=America/New_York:20180929T213000
DTSTAMP:20260420T120218
CREATED:20221122T135848Z
LAST-MODIFIED:20221124T111427Z
UID:2205-1538253000-1538256600@www.thecorkpub.com
SUMMARY:Retro Ray Goldberg Live!
DESCRIPTION:Tonight\, we’ve bringing a very special guest to the ‘Burg:  Ray Goldberg!  Have you ever seen a Baby Grand piano at The Cork before?  Well\, you’re about to!  Along with his instrument of choice\, he’s accompanied by a talented singer\, so you can hear your favorite songs like never before.  End September on a high note\, by joining us on September 29th for night of great music and even better company.
URL:https://www.thecorkpub.com/event/retro-ray-goldberg-live/
CATEGORIES:Music Calender
ATTACH;FMTTYPE=image/jpeg:https://www.thecorkpub.com/wp-content/uploads/2018/08/the-cork-sept-29.jpg
END:VEVENT
BEGIN:VEVENT
DTSTART;TZID=America/New_York:20180928T203000
DTEND;TZID=America/New_York:20180928T213000
DTSTAMP:20260420T120218
CREATED:20221122T135428Z
LAST-MODIFIED:20221124T111317Z
UID:2203-1538166600-1538170200@www.thecorkpub.com
SUMMARY:Vox Live!
DESCRIPTION:Chris Voxakis\, better known as “Vox\,” is something of a Cork staple!  It simply wouldn’t be our Live! Music series without his consistently amazing performances.  Starting our last weekend of music in September\, you can hear his bluesy variety on September 28th.  Just make sure your arrive early to grab a seat–it’s always a packed house when he comes to town!
URL:https://www.thecorkpub.com/event/vox-live-5/
CATEGORIES:Music Calender
ATTACH;FMTTYPE=image/jpeg:https://www.thecorkpub.com/wp-content/uploads/2018/08/the-cork-sept-28.jpg
END:VEVENT
BEGIN:VEVENT
DTSTART;TZID=America/New_York:20180922T203000
DTEND;TZID=America/New_York:20180922T213000
DTSTAMP:20260420T120218
CREATED:20221122T134939Z
LAST-MODIFIED:20221124T111005Z
UID:2201-1537648200-1537651800@www.thecorkpub.com
SUMMARY:Matt McMullin Live!
DESCRIPTION:At The Cork\, we love all things local!  Local produce\, local business\, and local musicians\, of course.  So on September 22nd\, you can catch Carroll County’s own Matt McMullin Live!  His acoustic sound will bring your rock favorites to life like never before.  See his passion for performing in person\, starting at 8:30 PM.
URL:https://www.thecorkpub.com/event/matt-mcmullin-live-2/
CATEGORIES:Music Calender
ATTACH;FMTTYPE=image/jpeg:https://www.thecorkpub.com/wp-content/uploads/2018/08/the-cork-sept-22-copy.jpg
END:VEVENT
BEGIN:VEVENT
DTSTART;TZID=America/New_York:20180921T203000
DTEND;TZID=America/New_York:20180921T213000
DTSTAMP:20260420T120218
CREATED:20221122T134535Z
LAST-MODIFIED:20221124T110958Z
UID:2199-1537561800-1537565400@www.thecorkpub.com
SUMMARY:Jeannie Finnegan Live!
DESCRIPTION:If you missed her last time\, we’re offering you a second chance!  Jeannie Finnegan is a wonderful musician who believes in the power of song–literally.  As the owner of Melodies and Memories\, she uses her talent as a therapeutic tool.  Tonight\, though\, you can catch her purely for entertainment.  Go ahead and mark September 21st on your calendar now.  It’ll be a night to remember!
URL:https://www.thecorkpub.com/event/jeannie-finnegan-live/
CATEGORIES:Music Calender
ATTACH;FMTTYPE=image/jpeg:https://www.thecorkpub.com/wp-content/uploads/2018/08/the-cork-sept-21.jpg
END:VEVENT
BEGIN:VEVENT
DTSTART;TZID=America/New_York:20180915T203000
DTEND;TZID=America/New_York:20180915T213000
DTSTAMP:20260420T120218
CREATED:20221122T134114Z
LAST-MODIFIED:20221124T111215Z
UID:2197-1537043400-1537047000@www.thecorkpub.com
SUMMARY:Ben Sherman Live!
DESCRIPTION:This month\, we’re adding a whole lot of talent to our lineup\, and Ben Sherman is no exception!  As a classically trained musician\, he certainly knows his way around a guitar.  He’s been recognized for his skills many times over\, but you can hear it for yourself at The Cork!  Come out September 15th to catch his unique setlist\, starting at 8:30 PM.
URL:https://www.thecorkpub.com/event/ben-sherman-live/
CATEGORIES:Music Calender
ATTACH;FMTTYPE=image/jpeg:https://www.thecorkpub.com/wp-content/uploads/2018/08/the-cork-sept-15th.jpg
END:VEVENT
BEGIN:VEVENT
DTSTART;TZID=America/New_York:20180914T203000
DTEND;TZID=America/New_York:20180914T213000
DTSTAMP:20260420T120218
CREATED:20221122T133151Z
LAST-MODIFIED:20221124T111015Z
UID:2195-1536957000-1536960600@www.thecorkpub.com
SUMMARY:California Bob Live!
DESCRIPTION:He’s bringing the sounds of the West Coast to your favorite East Coast spot.  He’s played all over the country\, taking his classic acoustic style and original sounds with him.  If you love legends like The Who\, Van Morrison\, The Grateful Dead\, and Bob Dylan\, then you won’t want to miss California Bob at The Cork on Friday\, September 14th!
URL:https://www.thecorkpub.com/event/california-bob-live/
CATEGORIES:Music Calender
ATTACH;FMTTYPE=image/jpeg:https://www.thecorkpub.com/wp-content/uploads/2018/08/the-cork-sept-14.jpg
END:VEVENT
BEGIN:VEVENT
DTSTART;TZID=America/New_York:20180908T203000
DTEND;TZID=America/New_York:20180908T213000
DTSTAMP:20260420T120218
CREATED:20221122T132808Z
LAST-MODIFIED:20221124T110950Z
UID:2193-1536438600-1536442200@www.thecorkpub.com
SUMMARY:Toast Live!
DESCRIPTION:We’re back to bringing you Live! Music all weekend long.  So tonight\, the series continues with Toast!  How much rock ‘n’ roll can The Cork hold?  We’re about to find out.  Join us for one great night\, Saturday\, September 8th!
URL:https://www.thecorkpub.com/event/toast-live/
CATEGORIES:Music Calender
ATTACH;FMTTYPE=image/jpeg:https://www.thecorkpub.com/wp-content/uploads/2018/08/the-cork-sept-8th.jpg
END:VEVENT
BEGIN:VEVENT
DTSTART;TZID=America/New_York:20180907T203000
DTEND;TZID=America/New_York:20180907T213000
DTSTAMP:20260420T120218
CREATED:20221122T132340Z
LAST-MODIFIED:20221124T110931Z
UID:2191-1536352200-1536355800@www.thecorkpub.com
SUMMARY:Easy Six Live!
DESCRIPTION:Start off September with one of our favorite duos:  Easy Six!  Listen as they recreate some of your favorite rock classics with their own percussive twist.  They’ll bring the congas\, you bring your friends!  It’s all happening at The Cork Friday\, September 7th.
URL:https://www.thecorkpub.com/event/easy-six-live-2/
CATEGORIES:Music Calender
ATTACH;FMTTYPE=image/jpeg:https://www.thecorkpub.com/wp-content/uploads/2018/08/the-cork-sept-7.jpg
END:VEVENT
BEGIN:VEVENT
DTSTART;TZID=America/New_York:20180831T203000
DTEND;TZID=America/New_York:20180831T213000
DTSTAMP:20260420T120218
CREATED:20221122T123347Z
LAST-MODIFIED:20221124T110636Z
UID:2179-1535747400-1535751000@www.thecorkpub.com
SUMMARY:Vox Live!
DESCRIPTION:If you don’t have any plans for your Labor Day weekend\, you do now!  Come out to the Cork to hear Vox play all of your favorite rock melodies.  Plus\, you can enjoy food and drink specials throughout–even Late Night!  Who says you have to get away to celebrate?  We’ve got everything you need at The Cork.
URL:https://www.thecorkpub.com/event/vox-live-4/
CATEGORIES:Music Calender
ATTACH;FMTTYPE=image/jpeg:https://www.thecorkpub.com/wp-content/uploads/2018/07/cork-vox.jpg
END:VEVENT
BEGIN:VEVENT
DTSTART;TZID=America/New_York:20180824T203000
DTEND;TZID=America/New_York:20180824T230000
DTSTAMP:20260420T120218
CREATED:20221122T122538Z
LAST-MODIFIED:20221122T131050Z
UID:2176-1535142600-1535151600@www.thecorkpub.com
SUMMARY:Drew Stevyns Live!
DESCRIPTION:You may recognize him from America’s Got Talent\, but this weekend you can catch him right in Eldersburg!  His sultry tones add a new twist to all of your favorite rock ‘n’ roll songs\, so you don’t want to miss his latest performance.  Come early to grab a seat and enjoy the show starting at 8:30 PM.
URL:https://www.thecorkpub.com/event/drew-stevyns-live/
CATEGORIES:Music Calender
ATTACH;FMTTYPE=image/jpeg:https://www.thecorkpub.com/wp-content/uploads/2018/07/cork-drew-stevyns.jpg
END:VEVENT
BEGIN:VEVENT
DTSTART;TZID=America/New_York:20180817T203000
DTEND;TZID=America/New_York:20180817T230000
DTSTAMP:20260420T120218
CREATED:20221122T122012Z
LAST-MODIFIED:20221122T122012Z
UID:2175-1534537800-1534546800@www.thecorkpub.com
SUMMARY:Double Feature Live!
DESCRIPTION:We’ve been rocking with Double Feature all summer long\, and here’s your last chance to catch them this season!  This duo plays an eclectic mix that’s sure to please everyone in your group of friends\, so bring them down to The Cork this Friday night.
URL:https://www.thecorkpub.com/event/double-feature-live-3/
CATEGORIES:Music Calender
ATTACH;FMTTYPE=image/jpeg:https://www.thecorkpub.com/wp-content/uploads/2018/07/cork-double-feature.jpg
END:VEVENT
BEGIN:VEVENT
DTSTART;TZID=America/New_York:20180810T203000
DTEND;TZID=America/New_York:20180810T230000
DTSTAMP:20260420T120218
CREATED:20221122T121253Z
LAST-MODIFIED:20221122T121253Z
UID:2172-1533933000-1533942000@www.thecorkpub.com
SUMMARY:Stan Whitaker Live!
DESCRIPTION:Another weekend\, another chance for Live! Music\, right in your own background.  This week\, we’re featuring Maryland musician Stan Whitaker\, whose 1960s rock roots will carry you through your Friday night.  Arrive early\, seating is limited!  And he goes on at 8:30 PM sharp.
URL:https://www.thecorkpub.com/event/stan-whitaker-live/
CATEGORIES:Music Calender
ATTACH;FMTTYPE=image/jpeg:https://www.thecorkpub.com/wp-content/uploads/2018/07/cork-stan-whitaker.jpg
END:VEVENT
END:VCALENDAR