BEGIN:VCALENDAR
VERSION:2.0
PRODID:-//The County Cork Wine Pub - ECPv6.15.20//NONSGML v1.0//EN
CALSCALE:GREGORIAN
METHOD:PUBLISH
X-ORIGINAL-URL:https://www.thecorkpub.com
X-WR-CALDESC:Events for The County Cork Wine Pub
REFRESH-INTERVAL;VALUE=DURATION:PT1H
X-Robots-Tag:noindex
X-PUBLISHED-TTL:PT1H
BEGIN:VTIMEZONE
TZID:America/New_York
BEGIN:DAYLIGHT
TZOFFSETFROM:-0500
TZOFFSETTO:-0400
TZNAME:EDT
DTSTART:20210314T070000
END:DAYLIGHT
BEGIN:STANDARD
TZOFFSETFROM:-0400
TZOFFSETTO:-0500
TZNAME:EST
DTSTART:20211107T060000
END:STANDARD
BEGIN:DAYLIGHT
TZOFFSETFROM:-0500
TZOFFSETTO:-0400
TZNAME:EDT
DTSTART:20220313T070000
END:DAYLIGHT
BEGIN:STANDARD
TZOFFSETFROM:-0400
TZOFFSETTO:-0500
TZNAME:EST
DTSTART:20221106T060000
END:STANDARD
BEGIN:DAYLIGHT
TZOFFSETFROM:-0500
TZOFFSETTO:-0400
TZNAME:EDT
DTSTART:20230312T070000
END:DAYLIGHT
BEGIN:STANDARD
TZOFFSETFROM:-0400
TZOFFSETTO:-0500
TZNAME:EST
DTSTART:20231105T060000
END:STANDARD
BEGIN:DAYLIGHT
TZOFFSETFROM:-0500
TZOFFSETTO:-0400
TZNAME:EDT
DTSTART:20240310T070000
END:DAYLIGHT
BEGIN:STANDARD
TZOFFSETFROM:-0400
TZOFFSETTO:-0500
TZNAME:EST
DTSTART:20241103T060000
END:STANDARD
END:VTIMEZONE
BEGIN:VEVENT
DTSTART;TZID=America/New_York:20230127T200000
DTEND;TZID=America/New_York:20230127T230000
DTSTAMP:20260419T082553
CREATED:20230106T143442Z
LAST-MODIFIED:20230106T143442Z
UID:2953-1674849600-1674860400@www.thecorkpub.com
SUMMARY:Chuck and Eric Duo\, LIVE!
DESCRIPTION:Chuck and Eric Duo\, LIVE! Friday\, January 27th\, at 8pm
URL:https://www.thecorkpub.com/event/chuck-and-eric-duo-live-4/
CATEGORIES:Music Calender
ATTACH;FMTTYPE=image/jpeg:https://www.thecorkpub.com/wp-content/uploads/2023/01/CorkGraphicsTemplate-Chuck-eric-duo-JAN27TH.jpg
END:VEVENT
BEGIN:VEVENT
DTSTART;TZID=America/New_York:20230120T200000
DTEND;TZID=America/New_York:20230120T230000
DTSTAMP:20260419T082553
CREATED:20230105T214437Z
LAST-MODIFIED:20230105T214437Z
UID:2937-1674244800-1674255600@www.thecorkpub.com
SUMMARY:Richard Walton\, LIVE!
DESCRIPTION:Richard Walton\, LIVE! Friday\, January 20th at 8pm
URL:https://www.thecorkpub.com/event/richard-walton-live-4/
CATEGORIES:Music Calender
ATTACH;FMTTYPE=image/jpeg:https://www.thecorkpub.com/wp-content/uploads/2023/01/23-01-20-Richard-walton-long.jpg
END:VEVENT
BEGIN:VEVENT
DTSTART;TZID=America/New_York:20230113T200000
DTEND;TZID=America/New_York:20230113T230000
DTSTAMP:20260419T082553
CREATED:20230105T214253Z
LAST-MODIFIED:20230105T214253Z
UID:2934-1673640000-1673650800@www.thecorkpub.com
SUMMARY:Brahman Noodles\, LIVE!
DESCRIPTION:Brahman Noodles\, LIVE! Friday\, January 13th at 8pm
URL:https://www.thecorkpub.com/event/brahman-noodles-live/
CATEGORIES:Music Calender
ATTACH;FMTTYPE=image/jpeg:https://www.thecorkpub.com/wp-content/uploads/2023/01/23-01-13-brahman-noodles-long.jpg
END:VEVENT
BEGIN:VEVENT
DTSTART;TZID=America/New_York:20230106T200000
DTEND;TZID=America/New_York:20230106T230000
DTSTAMP:20260419T082553
CREATED:20230105T214057Z
LAST-MODIFIED:20230105T214057Z
UID:2931-1673035200-1673046000@www.thecorkpub.com
SUMMARY:Tim Morrison\, LIVE!
DESCRIPTION:Tim Morrison\, LIVE! Friday\, January 6th\, at 8pm!
URL:https://www.thecorkpub.com/event/tim-morrison-live-9/
CATEGORIES:Music Calender
ATTACH;FMTTYPE=image/jpeg:https://www.thecorkpub.com/wp-content/uploads/2023/01/23-01-06-tim-morrison-jan-6th-long.jpg
END:VEVENT
BEGIN:VEVENT
DTSTART;TZID=America/New_York:20221230T203000
DTEND;TZID=America/New_York:20221230T230000
DTSTAMP:20260419T082553
CREATED:20221205T183431Z
LAST-MODIFIED:20221213T192105Z
UID:2883-1672432200-1672441200@www.thecorkpub.com
SUMMARY:Ben Sherman\, LIVE!
DESCRIPTION:Ben Sherman\, LIVE! Friday\, December 30th at 8:30pm
URL:https://www.thecorkpub.com/event/ben-sherman-live-5/
CATEGORIES:Music Calender
ATTACH;FMTTYPE=image/jpeg:https://www.thecorkpub.com/wp-content/uploads/2022/12/DEC-CorkGraphics-BenSherman1230-web.jpg
END:VEVENT
BEGIN:VEVENT
DTSTART;TZID=America/New_York:20221223T203000
DTEND;TZID=America/New_York:20221223T230000
DTSTAMP:20260419T082553
CREATED:20221202T164003Z
LAST-MODIFIED:20221202T164003Z
UID:2873-1671827400-1671836400@www.thecorkpub.com
SUMMARY:Greg Kneller\, LIVE!
DESCRIPTION:Greg Kneller\, LIVE! Friday\, December 9th at 8:30pm at The Cork
URL:https://www.thecorkpub.com/event/greg-kneller-live-8/
CATEGORIES:Music Calender
ATTACH;FMTTYPE=image/jpeg:https://www.thecorkpub.com/wp-content/uploads/2022/12/DEC-CorkGraphicsTemplate_Specials-copy-42-scaled.jpg
END:VEVENT
BEGIN:VEVENT
DTSTART;TZID=America/New_York:20221216T203000
DTEND;TZID=America/New_York:20221216T230000
DTSTAMP:20260419T082553
CREATED:20221205T182712Z
LAST-MODIFIED:20221205T182712Z
UID:2880-1671222600-1671231600@www.thecorkpub.com
SUMMARY:Tim Morrison\, LIVE!
DESCRIPTION:Tim Morrison\, LIVE! Friday\, December 16th\, at 8:30pm
URL:https://www.thecorkpub.com/event/tim-morrison-live-8/
CATEGORIES:Music Calender
ATTACH;FMTTYPE=image/jpeg:https://www.thecorkpub.com/wp-content/uploads/2022/12/DEC-CorkGraphics-TimMorrison-web.jpg
END:VEVENT
BEGIN:VEVENT
DTSTART;TZID=America/New_York:20221209T203000
DTEND;TZID=America/New_York:20221209T230000
DTSTAMP:20260419T082553
CREATED:20221205T181129Z
LAST-MODIFIED:20221205T181407Z
UID:2876-1670617800-1670626800@www.thecorkpub.com
SUMMARY:Chuck and Eric Duo\, LIVE!
DESCRIPTION:Chuck and Eric Duo\, LIVE! Friday\, December 9th\, at 8:30pm
URL:https://www.thecorkpub.com/event/chuck-and-eric-duo-live-2/
CATEGORIES:Music Calender
ATTACH;FMTTYPE=image/jpeg:https://www.thecorkpub.com/wp-content/uploads/2022/12/DEC-CorkGraphicsCEDUO800.jpg
END:VEVENT
BEGIN:VEVENT
DTSTART;TZID=America/New_York:20221202T203000
DTEND;TZID=America/New_York:20221202T230000
DTSTAMP:20260419T082553
CREATED:20221202T163507Z
LAST-MODIFIED:20221202T163507Z
UID:2870-1670013000-1670022000@www.thecorkpub.com
SUMMARY:Ed Fatula LIVE!
DESCRIPTION:Ed Fatula LIVE! At The Cork\, 12/6\, 8:30-11pm
URL:https://www.thecorkpub.com/event/ed-fatula-live-2/
CATEGORIES:Music Calender
ATTACH;FMTTYPE=image/jpeg:https://www.thecorkpub.com/wp-content/uploads/2022/12/Music-web-EdFatula-Dec2.jpg
END:VEVENT
BEGIN:VEVENT
DTSTART;TZID=America/New_York:20221123T200000
DTEND;TZID=America/New_York:20221123T230000
DTSTAMP:20260419T082553
CREATED:20221124T043647Z
LAST-MODIFIED:20221125T134921Z
UID:2456-1669233600-1669244400@www.thecorkpub.com
SUMMARY:Chuck and Eric Duo\, LIVE!
DESCRIPTION:Chuck and Eric Duo\, LIVE! WEDNESDAY 11/23 from 8-11
URL:https://www.thecorkpub.com/event/chuck-and-eric-duo-live/
CATEGORIES:Music Calender
ATTACH;FMTTYPE=image/jpeg:https://www.thecorkpub.com/wp-content/uploads/2022/10/Nov-CorkGraphicsTemplate-Chuck-Eric-Duo-web.jpg
END:VEVENT
BEGIN:VEVENT
DTSTART;TZID=America/New_York:20221118T200000
DTEND;TZID=America/New_York:20221118T230000
DTSTAMP:20260419T082553
CREATED:20221124T044225Z
LAST-MODIFIED:20221124T044225Z
UID:2458-1668801600-1668812400@www.thecorkpub.com
SUMMARY:Tim Morrison\, LIVE!
DESCRIPTION:Tim Morrison\, LIVE! 11/18 from 8-11
URL:https://www.thecorkpub.com/event/tim-morrison-live-7/
CATEGORIES:Music Calender
ATTACH;FMTTYPE=image/jpeg:https://www.thecorkpub.com/wp-content/uploads/2022/10/Nov-CorkGraphicsTemplate-Tim-Morrison-web.jpg
END:VEVENT
BEGIN:VEVENT
DTSTART;TZID=America/New_York:20221111T200000
DTEND;TZID=America/New_York:20221111T230000
DTSTAMP:20260419T082553
CREATED:20221124T044531Z
LAST-MODIFIED:20221124T044531Z
UID:2460-1668196800-1668207600@www.thecorkpub.com
SUMMARY:Ben Sherman\, LIVE!
DESCRIPTION:Ben Sherman\, LIVE! 11/11 from 8-11pm
URL:https://www.thecorkpub.com/event/ben-sherman-live-11/
CATEGORIES:Music Calender
ATTACH;FMTTYPE=image/jpeg:https://www.thecorkpub.com/wp-content/uploads/2022/10/Nov-CorkGraphicsTemplate-Ben-Sherman-web.jpg
END:VEVENT
BEGIN:VEVENT
DTSTART;TZID=America/New_York:20221104T200000
DTEND;TZID=America/New_York:20221104T230000
DTSTAMP:20260419T082553
CREATED:20221124T044855Z
LAST-MODIFIED:20221124T044855Z
UID:2462-1667592000-1667602800@www.thecorkpub.com
SUMMARY:LIVE MUSIC!
DESCRIPTION:LIVE MUSIC! 11/4 from 8-11pm
URL:https://www.thecorkpub.com/event/ed-fatula-live/
CATEGORIES:Music Calender
ATTACH;FMTTYPE=image/jpeg:https://www.thecorkpub.com/wp-content/uploads/2022/10/Nov-CorkGraphicsTemplate-livemusic-web.jpg
END:VEVENT
BEGIN:VEVENT
DTSTART;TZID=America/New_York:20221028T200000
DTEND;TZID=America/New_York:20221028T230000
DTSTAMP:20260419T082553
CREATED:20221124T045251Z
LAST-MODIFIED:20221124T045251Z
UID:2461-1666987200-1666998000@www.thecorkpub.com
SUMMARY:Chris Tolentino\, LIVE!
DESCRIPTION:Chris Tolentino\, LIVE! 10/28\, from 8-11pm
URL:https://www.thecorkpub.com/event/chris-tolentino-live-6/
CATEGORIES:Music Calender
ATTACH;FMTTYPE=image/jpeg:https://www.thecorkpub.com/wp-content/uploads/2022/10/Oct-CorkGraphicsTemplate-Chris-Tolentino-web.jpg
END:VEVENT
BEGIN:VEVENT
DTSTART;TZID=America/New_York:20221021T200000
DTEND;TZID=America/New_York:20221021T230000
DTSTAMP:20260419T082553
CREATED:20221124T050059Z
LAST-MODIFIED:20221124T050059Z
UID:2466-1666382400-1666393200@www.thecorkpub.com
SUMMARY:Tim Morrison\, LIVE!
DESCRIPTION:Tim Morrison\, LIVE! 10/21 from 8-11pm
URL:https://www.thecorkpub.com/event/tim-morrison-live-6/
CATEGORIES:Music Calender
ATTACH;FMTTYPE=image/jpeg:https://www.thecorkpub.com/wp-content/uploads/2022/10/Oct-CorkGraphicsTemplate-Tim-Morrison-web.jpg
END:VEVENT
BEGIN:VEVENT
DTSTART;TZID=America/New_York:20221014T200000
DTEND;TZID=America/New_York:20221014T230000
DTSTAMP:20260419T082553
CREATED:20221124T051455Z
LAST-MODIFIED:20221124T051455Z
UID:2467-1665777600-1665788400@www.thecorkpub.com
SUMMARY:Easy Six\, LIVE!
DESCRIPTION:Easy Six\, LIVE! 8pm-11pm
URL:https://www.thecorkpub.com/event/easy-six-live-16/
CATEGORIES:Music Calender
ATTACH;FMTTYPE=image/jpeg:https://www.thecorkpub.com/wp-content/uploads/2022/10/Oct-CorkGraphicsTemplate-EasySix-web.jpg
END:VEVENT
BEGIN:VEVENT
DTSTART;TZID=America/New_York:20220930T200000
DTEND;TZID=America/New_York:20220930T230000
DTSTAMP:20260419T082553
CREATED:20221124T055126Z
LAST-MODIFIED:20221124T055212Z
UID:2485-1664568000-1664578800@www.thecorkpub.com
SUMMARY:Chuck and Austin\, LIVE!
DESCRIPTION:Chuck and Austin\, LIVE! September 30th at 8pm
URL:https://www.thecorkpub.com/event/chuck-and-austin-live-7/
CATEGORIES:Music Calender
ATTACH;FMTTYPE=image/jpeg:https://www.thecorkpub.com/wp-content/uploads/2022/07/Sept-CorkGraphicsTemplate-Chuck-and-Austin-web.jpg
END:VEVENT
BEGIN:VEVENT
DTSTART;TZID=America/New_York:20220923T200000
DTEND;TZID=America/New_York:20220923T230000
DTSTAMP:20260419T082553
CREATED:20221124T055529Z
LAST-MODIFIED:20221124T055529Z
UID:2484-1663963200-1663974000@www.thecorkpub.com
SUMMARY:Tim Morrison\, LIVE!
DESCRIPTION:Tim Morrison\, LIVE! September 23rd at 8pm
URL:https://www.thecorkpub.com/event/tim-morrison-live-5/
CATEGORIES:Music Calender
ATTACH;FMTTYPE=image/jpeg:https://www.thecorkpub.com/wp-content/uploads/2022/07/Sept-CorkGraphicsTemplate-Tim-Morrison-web.jpg
END:VEVENT
BEGIN:VEVENT
DTSTART;TZID=America/New_York:20220916T200000
DTEND;TZID=America/New_York:20220916T230000
DTSTAMP:20260419T082553
CREATED:20221124T052840Z
LAST-MODIFIED:20221124T052840Z
UID:2472-1663358400-1663369200@www.thecorkpub.com
SUMMARY:Ben Sherman\, LIVE!
DESCRIPTION:Ben Sherman\, LIVE! Friday\, September 16th\, 8-11pm. Only at The Cork!
URL:https://www.thecorkpub.com/event/ben-sherman-live-10/
CATEGORIES:Music Calender
ATTACH;FMTTYPE=image/jpeg:https://www.thecorkpub.com/wp-content/uploads/2022/08/Sept-CorkGraphicsTemplate-BenSherman-web.jpg
END:VEVENT
BEGIN:VEVENT
DTSTART;TZID=America/New_York:20220909T200000
DTEND;TZID=America/New_York:20220909T230000
DTSTAMP:20260419T082553
CREATED:20221124T054845Z
LAST-MODIFIED:20221124T054845Z
UID:2481-1662753600-1662764400@www.thecorkpub.com
SUMMARY:Stone Ridge Boys\, LIVE!
DESCRIPTION:Stone Ridge Boys\, LIVE! September 9th at 8pm
URL:https://www.thecorkpub.com/event/stone-ridge-boys-live-3/
CATEGORIES:Music Calender
ATTACH;FMTTYPE=image/jpeg:https://www.thecorkpub.com/wp-content/uploads/2022/07/Sept-CorkGraphicsTemplate-StoneRidgeBoys-web.jpg
END:VEVENT
BEGIN:VEVENT
DTSTART;TZID=America/New_York:20220902T200000
DTEND;TZID=America/New_York:20220902T230000
DTSTAMP:20260419T082553
CREATED:20221124T060104Z
LAST-MODIFIED:20221124T060104Z
UID:2489-1662148800-1662159600@www.thecorkpub.com
SUMMARY:Easy Six\, LIVE!
DESCRIPTION:Easy Six\, LIVE! September 2\, at 8pm
URL:https://www.thecorkpub.com/event/easy-six-live-15/
CATEGORIES:Music Calender
ATTACH;FMTTYPE=image/jpeg:https://www.thecorkpub.com/wp-content/uploads/2022/07/Aug-CorkGraphicsTemplate-EasySix-web.jpg
END:VEVENT
BEGIN:VEVENT
DTSTART;TZID=America/New_York:20220826T200000
DTEND;TZID=America/New_York:20220826T230000
DTSTAMP:20260419T082553
CREATED:20221124T060922Z
LAST-MODIFIED:20221124T060922Z
UID:2494-1661544000-1661554800@www.thecorkpub.com
SUMMARY:Chuck and Austin\, LIVE!
DESCRIPTION:Chuck and Austin\, LIVE! August 26th at 8pm
URL:https://www.thecorkpub.com/event/chuck-and-austin-live-6/
CATEGORIES:Music Calender
ATTACH;FMTTYPE=image/jpeg:https://www.thecorkpub.com/wp-content/uploads/2022/07/Aug-CorkGraphicsTemplate-Chuck-and-Austin-web.jpg
END:VEVENT
BEGIN:VEVENT
DTSTART;TZID=America/New_York:20220819T200000
DTEND;TZID=America/New_York:20220819T230000
DTSTAMP:20260419T082553
CREATED:20221124T061157Z
LAST-MODIFIED:20221124T061157Z
UID:2493-1660939200-1660950000@www.thecorkpub.com
SUMMARY:Andy and Amy\, LIVE!
DESCRIPTION:Andy and Amy\, LIVE! Friday August 19th at 8pm
URL:https://www.thecorkpub.com/event/andy-and-amy-live/
CATEGORIES:Music Calender
ATTACH;FMTTYPE=image/jpeg:https://www.thecorkpub.com/wp-content/uploads/2022/07/Aug-CorkGraphicsTemplate-Andy-and-Amy-web.jpg
END:VEVENT
BEGIN:VEVENT
DTSTART;TZID=America/New_York:20220805T200000
DTEND;TZID=America/New_York:20220805T230000
DTSTAMP:20260419T082553
CREATED:20221124T061548Z
LAST-MODIFIED:20221124T061548Z
UID:2501-1659729600-1659740400@www.thecorkpub.com
SUMMARY:Ben Sherman\, LIVE!
DESCRIPTION:Ben Sherman\, LIVE! August 5th at 8pm
URL:https://www.thecorkpub.com/event/ben-sherman-live-9/
CATEGORIES:Music Calender
ATTACH;FMTTYPE=image/jpeg:https://www.thecorkpub.com/wp-content/uploads/2022/07/Aug-CorkGraphicsTemplate-Ben-Sherman-web.jpg
END:VEVENT
BEGIN:VEVENT
DTSTART;TZID=America/New_York:20220729T200000
DTEND;TZID=America/New_York:20220729T230000
DTSTAMP:20260419T082553
CREATED:20221124T064029Z
LAST-MODIFIED:20221124T064029Z
UID:2513-1659124800-1659135600@www.thecorkpub.com
SUMMARY:Chuck and Austin\, LIVE!
DESCRIPTION:Chuck and Austin\, LIVE! Friday\, July 29th from 8-11pm
URL:https://www.thecorkpub.com/event/chuck-and-austin-live-5/
CATEGORIES:Music Calender
ATTACH;FMTTYPE=image/jpeg:https://www.thecorkpub.com/wp-content/uploads/2022/06/July-CorkGraphicsTemplate-ChuckAustin1.jpg
END:VEVENT
BEGIN:VEVENT
DTSTART;VALUE=DATE:20220726
DTEND;VALUE=DATE:20220727
DTSTAMP:20260419T082553
CREATED:20221124T060306Z
LAST-MODIFIED:20221124T124118Z
UID:2490-1658793600-1658879999@www.thecorkpub.com
SUMMARY:Tim Morrison\, LIVE!
DESCRIPTION:Tim Morrison\, LIVE! August 12th at 8pm
URL:https://www.thecorkpub.com/event/tim-morrison-live-4/
CATEGORIES:Music Calender
ATTACH;FMTTYPE=image/jpeg:https://www.thecorkpub.com/wp-content/uploads/2022/07/Aug-CorkGraphicsTemplate-Tim-Morrison-web.jpg
END:VEVENT
BEGIN:VEVENT
DTSTART;TZID=America/New_York:20220722T200000
DTEND;TZID=America/New_York:20220722T230000
DTSTAMP:20260419T082553
CREATED:20221124T063059Z
LAST-MODIFIED:20221124T063059Z
UID:2509-1658520000-1658530800@www.thecorkpub.com
SUMMARY:Richard Walton\, LIVE!
DESCRIPTION:Richard Walton\, LIVE! Friday\, July 22nd from 8-11pm
URL:https://www.thecorkpub.com/event/richard-walton-live-12/
CATEGORIES:Music Calender
ATTACH;FMTTYPE=image/jpeg:https://www.thecorkpub.com/wp-content/uploads/2022/06/July-CorkGraphicsTemplate-richardwalton-web.jpg
END:VEVENT
BEGIN:VEVENT
DTSTART;TZID=America/New_York:20220715T200000
DTEND;TZID=America/New_York:20220715T230000
DTSTAMP:20260419T082553
CREATED:20221124T063324Z
LAST-MODIFIED:20221124T063324Z
UID:2508-1657915200-1657926000@www.thecorkpub.com
SUMMARY:Easy Six\, LIVE!
DESCRIPTION:Easy Six\, LIVE! Friday\, July 15th from 8-11pm
URL:https://www.thecorkpub.com/event/easy-six-live-14/
CATEGORIES:Music Calender
ATTACH;FMTTYPE=image/jpeg:https://www.thecorkpub.com/wp-content/uploads/2022/06/July-CorkGraphicsTemplate-easysix-web.jpg
END:VEVENT
BEGIN:VEVENT
DTSTART;TZID=America/New_York:20220708T200000
DTEND;TZID=America/New_York:20220708T230000
DTSTAMP:20260419T082553
CREATED:20221124T063612Z
LAST-MODIFIED:20221124T063612Z
UID:2514-1657310400-1657321200@www.thecorkpub.com
SUMMARY:Corey Jenkins\, LIVE!
DESCRIPTION:Cory Jenkins\, LIVE! Friday\, July 8th\, from 8-10pm
URL:https://www.thecorkpub.com/event/corey-jenkins-live/
CATEGORIES:Music Calender
ATTACH;FMTTYPE=image/jpeg:https://www.thecorkpub.com/wp-content/uploads/2022/06/July-CorkGraphicsTemplate-Corey-Jenkins-web.jpg
END:VEVENT
BEGIN:VEVENT
DTSTART;TZID=America/New_York:20220701T200000
DTEND;TZID=America/New_York:20220701T230000
DTSTAMP:20260419T082553
CREATED:20221124T062756Z
LAST-MODIFIED:20221124T062756Z
UID:2504-1656705600-1656716400@www.thecorkpub.com
SUMMARY:Chris Tolentino LIVE!
DESCRIPTION:Chris Tolentino LIVE! Friday\, July 1st\, from 8pm-11pm
URL:https://www.thecorkpub.com/event/chris-tolentino-live-5/
CATEGORIES:Music Calender
ATTACH;FMTTYPE=image/jpeg:https://www.thecorkpub.com/wp-content/uploads/2022/06/July-CorkGraphicsTemplate-ChrisTolentino-web.jpg
END:VEVENT
END:VCALENDAR